BEGIN_USGS_DOQ_HEADER *
QUADRANGLE_NAME "JOHANNESBURG" *
QUADRANT NE *
NORTH_LATITUDE 35 22 30.000 *
WEST_LONGITUDE -117 41 15.000 *
SOUTH_LATITUDE 35 18 45.000 *
EAST_LONGITUDE -117 37 30.000 *
PRODUCTION_DATE 1998 04 23 *
RASTER_ORDER LEFT_RIGHT/TOP_BOTTOM *
BAND_ORGANIZATION "SINGLE FILE" *
BAND_CONTENT BLACK&WHITE *
BITS_PER_PIXEL 8 *
SAMPLES_AND_LINES 6450 7590 *
HORIZONTAL_DATUM NAD83 *
HORIZONTAL_COORDINATE_SYSTEM UTM *
COORDINATE_ZONE 11 *
HORIZONTAL_UNITS METERS *
HORIZONTAL_RESOLUTION 1.000 *
SECONDARY_HORIZONTAL_DATUM NAD27 *
XY_ORIGIN 437100.000 3915150.000 *
SECONDARY_XY_ORIGIN 437179.845 3914954.925 *
NATION US *
STATE CA *
NW_QUAD_CORNER_XY 437551.547 3914847.336 *
NE_QUAD_CORNER_XY 443228.757 3914809.690 *
SE_QUAD_CORNER_XY 443185.016 3907878.146 *
SW_QUAD_CORNER_XY 437503.430 3907915.763 *
SECONDARY_NW_QUAD_XY 437550.088 3914648.662 *
SECONDARY_NE_QUAD_XY 443227.431 3914611.015 *
SECONDARY_SE_QUAD_XY 443183.691 3907679.654 *
SECONDARY_SW_QUAD_XY 437501.973 3907717.273 *
RMSE_XY 2.830 *
IMAGE_SOURCE "BLACK AND WHITE FILM" *
SOURCE_IMAGE_ID "NAPP 6851 113" *
SOURCE_IMAGE_DATE 1994 05 28 *
SOURCE_DEM_DATE 1967 01 01 *
AGENCY "WESTERN MAPPING CENTER (WMC)" *
PRODUCER "ANALYTICAL SURVEYS INC." *
PRODUCTION_SYSTEM "ORBIT OR_RECTIFY V.5.2" *
STANDARD_VERSION 1996 12 *
METADATA_DATE 1998 04 25 *
DATA_FILE_SIZE 48961950 *
BYTE_COUNT 6450 * * * * * * * * * * * * * * * * * * * * * * * * * * * * * * * * * * * * * *
END_USGS_HEADER *
