BEGIN_USGS_DOQ_HEADER *
QUADRANGLE_NAME "JOHANNESBURG" *
QUADRANT SW *
NORTH_LATITUDE 35 18 45.000 *
WEST_LONGITUDE -117 45 00.000 *
SOUTH_LATITUDE 35 15 00.000 *
EAST_LONGITUDE -117 41 15.000 *
PRODUCTION_DATE 1998 04 23 *
RASTER_ORDER LEFT_RIGHT/TOP_BOTTOM *
BAND_ORGANIZATION "SINGLE FILE" *
BAND_CONTENT BLACK&WHITE *
BITS_PER_PIXEL 8 *
SAMPLES_AND_LINES 6450 7620 *
HORIZONTAL_DATUM NAD83 *
HORIZONTAL_COORDINATE_SYSTEM UTM *
COORDINATE_ZONE 11 *
HORIZONTAL_UNITS METERS *
HORIZONTAL_RESOLUTION 1.000 *
SECONDARY_HORIZONTAL_DATUM NAD27 *
XY_ORIGIN 431370.000 3908280.000 *
SECONDARY_XY_ORIGIN 431449.887 3908084.897 *
NATION US *
STATE CA *
NW_QUAD_CORNER_XY 431821.820 3907956.964 *
NE_QUAD_CORNER_XY 437503.430 3907915.763 *
SE_QUAD_CORNER_XY 437455.389 3900984.261 *
SW_QUAD_CORNER_XY 431769.410 3901025.430 *
SECONDARY_NW_QUAD_XY 431820.230 3907758.474 *
SECONDARY_NE_QUAD_XY 437501.973 3907717.273 *
SECONDARY_SE_QUAD_XY 437453.933 3900785.955 *
SECONDARY_SW_QUAD_XY 431767.822 3900827.125 *
RMSE_XY 2.225 *
IMAGE_SOURCE "BLACK AND WHITE FILM" *
SOURCE_IMAGE_ID "NAPP 6850 22" *
SOURCE_IMAGE_DATE 1994 05 28 *
SOURCE_IMAGE_ID "NAPP 6850 24" *
SOURCE_IMAGE_DATE 1994 05 28 *
SOURCE_DEM_DATE 1967 01 01 *
AGENCY "WESTERN MAPPING CENTER (WMC)" *
PRODUCER "ANALYTICAL SURVEYS INC." *
PRODUCTION_SYSTEM "ORBIT OR_RECTIFY V.5.2" *
STANDARD_VERSION 1996 12 *
METADATA_DATE 1998 04 25 *
DATA_FILE_SIZE 49155450 *
BYTE_COUNT 6450 * * * * * * * * * * * * * * * * * * * * * * * * * * * * * * * * * * * *
END_USGS_HEADER *
