BEGIN_USGS_DOQ_HEADER *
QUADRANGLE_NAME "SALTDALE SE" *
QUADRANT SE *
NORTH_LATITUDE 35 18 45.000 *
WEST_LONGITUDE -117 48 45.000 *
SOUTH_LATITUDE 35 15 00.000 *
EAST_LONGITUDE -117 45 00.000 *
PRODUCTION_DATE 1998 04 23 *
RASTER_ORDER LEFT_RIGHT/TOP_BOTTOM *
BAND_ORGANIZATION "SINGLE FILE" *
BAND_CONTENT BLACK&WHITE *
BITS_PER_PIXEL 8 *
SAMPLES_AND_LINES 6450 7590 *
HORIZONTAL_DATUM NAD83 *
HORIZONTAL_COORDINATE_SYSTEM UTM *
COORDINATE_ZONE 11 *
HORIZONTAL_UNITS METERS *
HORIZONTAL_RESOLUTION 1.000 *
SECONDARY_HORIZONTAL_DATUM NAD27 *
XY_ORIGIN 425700.000 3908310.000 *
SECONDARY_XY_ORIGIN 425779.953 3908114.935 *
NATION US *
STATE CA *
NW_QUAD_CORNER_XY 426140.182 3908001.748 *
NE_QUAD_CORNER_XY 431821.820 3907956.964 *
SE_QUAD_CORNER_XY 431769.410 3901025.430 *
SW_QUAD_CORNER_XY 426083.404 3901070.179 *
SECONDARY_NW_QUAD_XY 426138.460 3907803.260 *
SECONDARY_NE_QUAD_XY 431820.230 3907758.474 *
SECONDARY_SE_QUAD_XY 431767.822 3900827.125 *
SECONDARY_SW_QUAD_XY 426081.683 3900871.875 *
RMSE_XY 1.102 *
IMAGE_SOURCE "BLACK AND WHITE FILM" *
SOURCE_IMAGE_ID "NAPP 6850 69" *
SOURCE_IMAGE_DATE 1994 05 28 *
SOURCE_DEM_DATE 1967 01 01 *
AGENCY "WESTERN MAPPING CENTER (WMC)" *
PRODUCER "ANALYTICAL SURVEYS INC." *
PRODUCTION_SYSTEM "ORBIT OR_RECTIFY V.5.2" *
STANDARD_VERSION 1996 12 *
METADATA_DATE 1998 04 25 *
DATA_FILE_SIZE 48961950 *
BYTE_COUNT 6450 * * * * * * * * * * * * * * * * * * * * * * * * * * * * * * * * * * * * * *
END_USGS_HEADER *
