BEGIN_USGS_DOQ_HEADER *
QUADRANGLE_NAME "CANTIL" *
QUADRANT NE *
NORTH_LATITUDE 35 22 30.000 *
WEST_LONGITUDE -117 56 15.000 *
SOUTH_LATITUDE 35 18 45.000 *
EAST_LONGITUDE -117 52 30.000 *
PRODUCTION_DATE 1998 04 30 *
RASTER_ORDER LEFT_RIGHT/TOP_BOTTOM *
BAND_ORGANIZATION "SINGLE FILE" *
BAND_CONTENT BLACK&WHITE *
BITS_PER_PIXEL 8 *
SAMPLES_AND_LINES 6450 7620 *
HORIZONTAL_DATUM NAD83 *
HORIZONTAL_COORDINATE_SYSTEM UTM *
COORDINATE_ZONE 11 *
HORIZONTAL_UNITS METERS *
HORIZONTAL_RESOLUTION 1.000 *
SECONDARY_HORIZONTAL_DATUM NAD27 *
XY_ORIGIN 414390.000 3915360.000 *
SECONDARY_XY_ORIGIN 414469.985 3915165.001 *
NATION US *
STATE CA *
NW_QUAD_CORNER_XY 414842.434 3915033.783 *
NE_QUAD_CORNER_XY 420519.757 3914981.792 *
SE_QUAD_CORNER_XY 420458.515 3908050.115 *
SW_QUAD_CORNER_XY 414776.817 3908102.067 *
SECONDARY_NW_QUAD_XY 414840.445 3914835.113 *
SECONDARY_NE_QUAD_XY 420517.900 3914783.120 *
SECONDARY_SE_QUAD_XY 420456.661 3907851.628 *
SECONDARY_SW_QUAD_XY 414774.829 3907903.580 *
RMSE_XY 0.950 *
IMAGE_SOURCE "BLACK AND WHITE FILM" *
SOURCE_IMAGE_ID "NAPP 6850 141" *
SOURCE_IMAGE_DATE 1994 05 28 *
SOURCE_DEM_DATE 1967 01 01 *
AGENCY "WESTERN MAPPING CENTER (WMC)" *
PRODUCER "ANALYTICAL SURVEYS INC." *
PRODUCTION_SYSTEM "ORBIT OR_RECTIFY V.5.2" *
STANDARD_VERSION 1996 12 *
METADATA_DATE 1998 04 30 *
DATA_FILE_SIZE 49155450 *
BYTE_COUNT 6450 * * * * * * * * * * * * * * * * * * * * * * * * * * * * * * * * * * * * * *
END_USGS_HEADER *
