BEGIN_USGS_DOQ_HEADER *
QUADRANGLE_NAME "CANTIL" *
QUADRANT NW *
NORTH_LATITUDE 35 22 30.000 *
WEST_LONGITUDE -118 00 00.000 *
SOUTH_LATITUDE 35 18 45.000 *
EAST_LONGITUDE -117 56 15.000 *
PRODUCTION_DATE 1998 04 30 *
RASTER_ORDER LEFT_RIGHT/TOP_BOTTOM *
BAND_ORGANIZATION "SINGLE FILE" *
BAND_CONTENT BLACK&WHITE *
BITS_PER_PIXEL 8 *
SAMPLES_AND_LINES 6480 7620 *
HORIZONTAL_DATUM NAD83 *
HORIZONTAL_COORDINATE_SYSTEM UTM *
COORDINATE_ZONE 11 *
HORIZONTAL_UNITS METERS *
HORIZONTAL_RESOLUTION 1.000 *
SECONDARY_HORIZONTAL_DATUM NAD27 *
XY_ORIGIN 408690.000 3915390.000 *
SECONDARY_XY_ORIGIN 408770.024 3915195.027 *
NATION US *
STATE CA *
NW_QUAD_CORNER_XY 409165.077 3915089.360 *
NE_QUAD_CORNER_XY 414842.434 3915033.783 *
SE_QUAD_CORNER_XY 414776.817 3908102.067 *
SW_QUAD_CORNER_XY 409095.084 3908157.602 *
SECONDARY_NW_QUAD_XY 409162.955 3914890.692 *
SECONDARY_NE_QUAD_XY 414840.445 3914835.113 *
SECONDARY_SE_QUAD_XY 414774.829 3907903.580 *
SECONDARY_SW_QUAD_XY 409092.964 3907959.117 *
RMSE_XY 1.643 *
IMAGE_SOURCE "BLACK AND WHITE FILM" *
SOURCE_IMAGE_ID "NAPP 6850 188" *
SOURCE_IMAGE_DATE 1994 05 28 *
SOURCE_DEM_DATE 1967 01 01 *
AGENCY "WESTERN MAPPING CENTER (WMC)" *
PRODUCER "ANALYTICAL SURVEYS INC." *
PRODUCTION_SYSTEM "ORBIT OR_RECTIFY V.5.2" *
STANDARD_VERSION 1996 12 *
METADATA_DATE 1998 04 30 *
DATA_FILE_SIZE 49384080 *
BYTE_COUNT 6480 * * * * * * * * * * * * * * * * * * * * * * * * * * * * * * * * * * * * * *
END_USGS_HEADER *
