BEGIN_USGS_DOQ_HEADER *
QUADRANGLE_NAME "CANTIL" *
QUADRANT SE *
NORTH_LATITUDE 35 18 45.000 *
WEST_LONGITUDE -117 56 15.000 *
SOUTH_LATITUDE 35 15 00.000 *
EAST_LONGITUDE -117 52 30.000 *
PRODUCTION_DATE 1998 04 30 *
RASTER_ORDER LEFT_RIGHT/TOP_BOTTOM *
BAND_ORGANIZATION "SINGLE FILE" *
BAND_CONTENT BLACK&WHITE *
BITS_PER_PIXEL 8 *
SAMPLES_AND_LINES 6480 7620 *
HORIZONTAL_DATUM NAD83 *
HORIZONTAL_COORDINATE_SYSTEM UTM *
COORDINATE_ZONE 11 *
HORIZONTAL_UNITS METERS *
HORIZONTAL_RESOLUTION 1.000 *
SECONDARY_HORIZONTAL_DATUM NAD27 *
XY_ORIGIN 414300.000 3908430.000 *
SECONDARY_XY_ORIGIN 414380.065 3908235.002 *
NATION US *
STATE CA *
NW_QUAD_CORNER_XY 414776.817 3908102.067 *
NE_QUAD_CORNER_XY 420458.515 3908050.115 *
SE_QUAD_CORNER_XY 420397.369 3901118.509 *
SW_QUAD_CORNER_XY 414711.301 3901170.420 *
SECONDARY_NW_QUAD_XY 414774.829 3907903.580 *
SECONDARY_NE_QUAD_XY 420456.661 3907851.628 *
SECONDARY_SE_QUAD_XY 420395.515 3900920.207 *
SECONDARY_SW_QUAD_XY 414709.316 3900972.119 *
RMSE_XY 1.744 *
IMAGE_SOURCE "BLACK AND WHITE FILM" *
SOURCE_IMAGE_ID "NAPP 6850 143" *
SOURCE_IMAGE_DATE 1994 05 28 *
SOURCE_DEM_DATE 1967 01 01 *
AGENCY "WESTERN MAPPING CENTER (WMC)" *
PRODUCER "ANALYTICAL SURVEYS INC." *
PRODUCTION_SYSTEM "ORBIT OR_RECTIFY V.5.2" *
STANDARD_VERSION 1996 12 *
METADATA_DATE 1998 04 30 *
DATA_FILE_SIZE 49384080 *
BYTE_COUNT 6480 * * * * * * * * * * * * * * * * * * * * * * * * * * * * * * * * * * * * * *
END_USGS_HEADER *
