BEGIN_USGS_DOQ_HEADER *
QUADRANGLE_NAME "EAGLE CRAGS" *
QUADRANT NE *
NORTH_LATITUDE 35 30 00.000 *
WEST_LONGITUDE -117 03 45.000 *
SOUTH_LATITUDE 35 26 15.000 *
EAST_LONGITUDE -117 00 00.000 *
PRODUCTION_DATE 1998 05 15 *
RASTER_ORDER LEFT_RIGHT/TOP_BOTTOM *
BAND_ORGANIZATION "SINGLE FILE" *
BAND_CONTENT BLACK&WHITE *
BITS_PER_PIXEL 8 *
SAMPLES_AND_LINES 6390 7560 *
HORIZONTAL_DATUM NAD83 *
HORIZONTAL_COORDINATE_SYSTEM UTM *
COORDINATE_ZONE 11 *
HORIZONTAL_UNITS METERS *
HORIZONTAL_RESOLUTION 1.000 *
SECONDARY_HORIZONTAL_DATUM NAD27 *
XY_ORIGIN 493920.000 3928800.000 *
SECONDARY_XY_ORIGIN 493999.152 3928604.895 *
NATION US *
STATE CA *
NW_QUAD_CORNER_XY 494331.681 3928495.252 *
NE_QUAD_CORNER_XY 500000.000 3928493.456 *
SE_QUAD_CORNER_XY 500000.000 3921561.906 *
SW_QUAD_CORNER_XY 494327.293 3921563.700 *
SECONDARY_NW_QUAD_XY 494331.548 3928296.207 *
SECONDARY_NE_QUAD_XY 500000.000 3928294.412 *
SECONDARY_SE_QUAD_XY 500000.000 3921363.044 *
SECONDARY_SW_QUAD_XY 494327.161 3921364.838 *
RMSE_XY 1.066 *
IMAGE_SOURCE "BLACK AND WHITE FILM" *
SOURCE_IMAGE_ID "NAPP 6855 212" *
SOURCE_IMAGE_DATE 1994 05 29 *
SOURCE_DEM_DATE 1987 01 01 *
AGENCY "WESTERN MAPPING CENTER (WMC)" *
PRODUCER "ANALYTICAL SURVEYS INC." *
PRODUCTION_SYSTEM "ORBIT OR_RECTIFY V.5.2" *
STANDARD_VERSION 1996 12 *
METADATA_DATE 1998 05 18 *
DATA_FILE_SIZE 48314790 *
BYTE_COUNT 6390 * * * * * * * * * * * * * * * * * * * * * * * * * * * * * * * * * * * * *
END_USGS_HEADER *
