BEGIN_USGS_DOQ_HEADER *
QUADRANGLE_NAME "EAGLE CRAGS" *
QUADRANT SW *
NORTH_LATITUDE 35 26 15.000 *
WEST_LONGITUDE -117 07 30.000 *
SOUTH_LATITUDE 35 22 30.000 *
EAST_LONGITUDE -117 03 45.000 *
PRODUCTION_DATE 1998 05 15 *
RASTER_ORDER LEFT_RIGHT/TOP_BOTTOM *
BAND_ORGANIZATION "SINGLE FILE" *
BAND_CONTENT BLACK&WHITE *
BITS_PER_PIXEL 8 *
SAMPLES_AND_LINES 6390 7560 *
HORIZONTAL_DATUM NAD83 *
HORIZONTAL_COORDINATE_SYSTEM UTM *
COORDINATE_ZONE 11 *
HORIZONTAL_UNITS METERS *
HORIZONTAL_RESOLUTION 1.000 *
SECONDARY_HORIZONTAL_DATUM NAD27 *
XY_ORIGIN 488250.000 3921870.000 *
SECONDARY_XY_ORIGIN 488329.281 3921674.883 *
NATION US *
STATE CA *
NW_QUAD_CORNER_XY 488654.585 3921569.082 *
NE_QUAD_CORNER_XY 494327.293 3921563.700 *
SE_QUAD_CORNER_XY 494322.913 3914632.220 *
SW_QUAD_CORNER_XY 488645.823 3914637.598 *
SECONDARY_NW_QUAD_XY 488654.319 3921370.220 *
SECONDARY_NE_QUAD_XY 494327.161 3921364.838 *
SECONDARY_SE_QUAD_XY 494322.780 3914433.541 *
SECONDARY_SW_QUAD_XY 488645.558 3914438.919 *
RMSE_XY 2.021 *
IMAGE_SOURCE "BLACK AND WHITE FILM" *
SOURCE_IMAGE_ID "NAPP 6879 264" *
SOURCE_IMAGE_DATE 1995 10 07 *
SOURCE_DEM_DATE 1987 01 01 *
AGENCY "WESTERN MAPPING CENTER (WMC)" *
PRODUCER "ANALYTICAL SURVEYS INC." *
PRODUCTION_SYSTEM "ORBIT OR_RECTIFY V.5.2" *
STANDARD_VERSION 1996 12 *
METADATA_DATE 1998 05 18 *
DATA_FILE_SIZE 48314790 *
BYTE_COUNT 6390 * * * * * * * * * * * * * * * * * * * * * * * * * * * * * * * * * * * * *
END_USGS_HEADER *
