BEGIN_USGS_DOQ_HEADER *
QUADRANGLE_NAME "PILOT KNOB" *
QUADRANT NW *
NORTH_LATITUDE 35 30 00.000 *
WEST_LONGITUDE -117 15 00.000 *
SOUTH_LATITUDE 35 26 15.000 *
EAST_LONGITUDE -117 11 15.000 *
PRODUCTION_DATE 1998 05 15 *
RASTER_ORDER LEFT_RIGHT/TOP_BOTTOM *
BAND_ORGANIZATION "SINGLE FILE" *
BAND_CONTENT BLACK&WHITE *
BITS_PER_PIXEL 8 *
SAMPLES_AND_LINES 6390 7560 *
HORIZONTAL_DATUM NAD83 *
HORIZONTAL_COORDINATE_SYSTEM UTM *
COORDINATE_ZONE 11 *
HORIZONTAL_UNITS METERS *
HORIZONTAL_RESOLUTION 1.000 *
SECONDARY_HORIZONTAL_DATUM NAD27 *
XY_ORIGIN 476910.000 3928830.000 *
SECONDARY_XY_ORIGIN 476989.286 3928634.915 *
NATION US *
STATE CA *
NW_QUAD_CORNER_XY 477326.701 3928522.181 *
NE_QUAD_CORNER_XY 482995.034 3928509.614 *
SE_QUAD_CORNER_XY 482981.872 3921578.052 *
SW_QUAD_CORNER_XY 477309.152 3921590.609 *
SECONDARY_NW_QUAD_XY 477326.170 3928323.137 *
SECONDARY_NE_QUAD_XY 482994.635 3928310.570 *
SECONDARY_SE_QUAD_XY 482981.473 3921379.189 *
SECONDARY_SW_QUAD_XY 477308.621 3921391.747 *
RMSE_XY 1.579 *
IMAGE_SOURCE "BLACK AND WHITE FILM" *
SOURCE_IMAGE_ID "NAPP 6857 119" *
SOURCE_IMAGE_DATE 1994 05 29 *
SOURCE_IMAGE_ID "NAPP 6879 273" *
SOURCE_IMAGE_DATE 1995 10 07 *
SOURCE_DEM_DATE 1987 01 01 *
AGENCY "WESTERN MAPPING CENTER (WMC)" *
PRODUCER "ANALYTICAL SURVEYS INC." *
PRODUCTION_SYSTEM "ORBIT OR_RECTIFY V.5.2" *
STANDARD_VERSION 1996 12 *
METADATA_DATE 1998 05 19 *
DATA_FILE_SIZE 48314790 *
BYTE_COUNT 6390 * * * * * * * * * * * * * * * * * * * * * * * * * * * * * * * * * * *
END_USGS_HEADER *
