BEGIN_USGS_DOQ_HEADER *
QUADRANGLE_NAME "PILOT KNOB" *
QUADRANT SE *
NORTH_LATITUDE 35 26 15.000 *
WEST_LONGITUDE -117 11 15.000 *
SOUTH_LATITUDE 35 22 30.000 *
EAST_LONGITUDE -117 07 30.000 *
PRODUCTION_DATE 1998 05 18 *
RASTER_ORDER LEFT_RIGHT/TOP_BOTTOM *
BAND_ORGANIZATION "SINGLE FILE" *
BAND_CONTENT BLACK&WHITE *
BITS_PER_PIXEL 8 *
SAMPLES_AND_LINES 6390 7590 *
HORIZONTAL_DATUM NAD83 *
HORIZONTAL_COORDINATE_SYSTEM UTM *
COORDINATE_ZONE 11 *
HORIZONTAL_UNITS METERS *
HORIZONTAL_RESOLUTION 1.000 *
SECONDARY_HORIZONTAL_DATUM NAD27 *
XY_ORIGIN 482580.000 3921900.000 *
SECONDARY_XY_ORIGIN 482659.338 3921704.891 *
NATION US *
STATE CA *
NW_QUAD_CORNER_XY 482981.872 3921578.052 *
NE_QUAD_CORNER_XY 488654.585 3921569.082 *
SE_QUAD_CORNER_XY 488645.823 3914637.598 *
SW_QUAD_CORNER_XY 482968.729 3914646.561 *
SECONDARY_NW_QUAD_XY 482981.473 3921379.189 *
SECONDARY_NE_QUAD_XY 488654.319 3921370.220 *
SECONDARY_SE_QUAD_XY 488645.558 3914438.919 *
SECONDARY_SW_QUAD_XY 482968.332 3914447.882 *
RMSE_XY 1.474 *
IMAGE_SOURCE "BLACK AND WHITE FILM" *
SOURCE_IMAGE_ID "NAPP 6879 271" *
SOURCE_IMAGE_DATE 1995 10 07 *
SOURCE_IMAGE_ID "NAPP 6879 273" *
SOURCE_IMAGE_DATE 1995 10 07 *
SOURCE_IMAGE_ID "NAPP 6857 117" *
SOURCE_IMAGE_DATE 1994 05 29 *
SOURCE_DEM_DATE 1987 01 01 *
AGENCY "WESTERN MAPPING CENTER (WMC)" *
PRODUCER "ANALYTICAL SURVEYS INC." *
PRODUCTION_SYSTEM "ORBIT OR_RECTIFY V.5.2" *
STANDARD_VERSION 1996 12 *
METADATA_DATE 1998 05 18 *
DATA_FILE_SIZE 48506490 *
BYTE_COUNT 6390 * * * * * * * * * * * * * * * * * * * * * * * * * * * * * * * * *
END_USGS_HEADER *
