BEGIN_USGS_DOQ_HEADER *
QUADRANGLE_NAME "PILOT KNOB" *
QUADRANT SW *
NORTH_LATITUDE 35 26 15.000 *
WEST_LONGITUDE -117 15 00.000 *
SOUTH_LATITUDE 35 22 30.000 *
EAST_LONGITUDE -117 11 15.000 *
PRODUCTION_DATE 1998 05 15 *
RASTER_ORDER LEFT_RIGHT/TOP_BOTTOM *
BAND_ORGANIZATION "SINGLE FILE" *
BAND_CONTENT BLACK&WHITE *
BITS_PER_PIXEL 8 *
SAMPLES_AND_LINES 6390 7560 *
HORIZONTAL_DATUM NAD83 *
HORIZONTAL_COORDINATE_SYSTEM UTM *
COORDINATE_ZONE 11 *
HORIZONTAL_UNITS METERS *
HORIZONTAL_RESOLUTION 1.000 *
SECONDARY_HORIZONTAL_DATUM NAD27 *
XY_ORIGIN 476910.000 3921900.000 *
SECONDARY_XY_ORIGIN 476989.395 3921704.899 *
NATION US *
STATE CA *
NW_QUAD_CORNER_XY 477309.152 3921590.609 *
NE_QUAD_CORNER_XY 482981.872 3921578.052 *
SE_QUAD_CORNER_XY 482968.729 3914646.561 *
SW_QUAD_CORNER_XY 477291.629 3914659.109 *
SECONDARY_NW_QUAD_XY 477308.621 3921391.747 *
SECONDARY_NE_QUAD_XY 482981.473 3921379.189 *
SECONDARY_SE_QUAD_XY 482968.332 3914447.882 *
SECONDARY_SW_QUAD_XY 477291.098 3914460.430 *
RMSE_XY 2.360 *
IMAGE_SOURCE "BLACK AND WHITE FILM" *
SOURCE_IMAGE_ID "NAPP 6857 117" *
SOURCE_IMAGE_DATE 1994 05 29 *
SOURCE_DEM_DATE 1987 01 01 *
AGENCY "WESTERN MAPPING CENTER (WMC)" *
PRODUCER "ANALYTICAL SURVEYS INC." *
PRODUCTION_SYSTEM "ORBIT OR_RECTIFY V.5.2" *
STANDARD_VERSION 1996 12 *
METADATA_DATE 1998 05 18 *
DATA_FILE_SIZE 48314790 *
BYTE_COUNT 6390 * * * * * * * * * * * * * * * * * * * * * * * * * * * * * * * * * * * * *
END_USGS_HEADER *
