BEGIN_USGS_DOQ_HEADER *
QUADRANGLE_NAME "WEST OF BLACK HILLS" *
QUADRANT SW *
NORTH_LATITUDE 35 26 15.000 *
WEST_LONGITUDE -117 30 00.000 *
SOUTH_LATITUDE 35 22 30.000 *
EAST_LONGITUDE -117 26 15.000 *
PRODUCTION_DATE 1998 04 28 *
RASTER_ORDER LEFT_RIGHT/TOP_BOTTOM *
BAND_ORGANIZATION "SINGLE FILE" *
BAND_CONTENT BLACK&WHITE *
BITS_PER_PIXEL 8 *
SAMPLES_AND_LINES 6420 7590 *
HORIZONTAL_DATUM NAD83 *
HORIZONTAL_COORDINATE_SYSTEM UTM *
COORDINATE_ZONE 11 *
HORIZONTAL_UNITS METERS *
HORIZONTAL_RESOLUTION 1.000 *
SECONDARY_HORIZONTAL_DATUM NAD27 *
XY_ORIGIN 454200.000 3921990.000 *
SECONDARY_XY_ORIGIN 454279.743 3921794.968 *
NATION US *
STATE CA *
NW_QUAD_CORNER_XY 454618.160 3921676.720 *
NE_QUAD_CORNER_XY 460290.929 3921649.810 *
SE_QUAD_CORNER_XY 460260.264 3914718.265 *
SW_QUAD_CORNER_XY 454583.114 3914745.154 *
SECONDARY_NW_QUAD_XY 454617.099 3921477.860 *
SECONDARY_NE_QUAD_XY 460290.000 3921450.950 *
SECONDARY_SE_QUAD_XY 460259.336 3914519.588 *
SECONDARY_SW_QUAD_XY 454582.053 3914546.478 *
RMSE_XY 1.097 *
IMAGE_SOURCE "BLACK AND WHITE FILM" *
SOURCE_IMAGE_ID "NAPP 6853 30" *
SOURCE_IMAGE_DATE 1994 05 28 *
SOURCE_DEM_DATE 1987 01 01 *
AGENCY "WESTERN MAPPING CENTER (WMC)" *
PRODUCER "ANALYTICAL SURVEYS INC." *
PRODUCTION_SYSTEM "ORBIT OR_RECTIFY V.5.2" *
STANDARD_VERSION 1996 12 *
METADATA_DATE 1998 04 29 *
DATA_FILE_SIZE 48734220 *
BYTE_COUNT 6420 * * * * * * * * * * * * * * * * * * * * * * * * * * * * * * * * * * * * * *
END_USGS_HEADER *
