BEGIN_USGS_DOQ_HEADER *
QUADRANGLE_NAME "KLINKER MOUNTAIN" *
QUADRANT NE *
NORTH_LATITUDE 35 30 00.000 *
WEST_LONGITUDE -117 33 45.000 *
SOUTH_LATITUDE 35 26 15.000 *
EAST_LONGITUDE -117 30 00.000 *
PRODUCTION_DATE 1998 04 24 *
RASTER_ORDER LEFT_RIGHT/TOP_BOTTOM *
BAND_ORGANIZATION "SINGLE FILE" *
BAND_CONTENT BLACK&WHITE *
BITS_PER_PIXEL 8 *
SAMPLES_AND_LINES 6420 7590 *
HORIZONTAL_DATUM NAD83 *
HORIZONTAL_COORDINATE_SYSTEM UTM *
COORDINATE_ZONE 11 *
HORIZONTAL_UNITS METERS *
HORIZONTAL_RESOLUTION 1.000 *
SECONDARY_HORIZONTAL_DATUM NAD27 *
XY_ORIGIN 448560.000 3928950.000 *
SECONDARY_XY_ORIGIN 448639.726 3928754.978 *
NATION US *
STATE CA *
NW_QUAD_CORNER_XY 448984.862 3928638.879 *
NE_QUAD_CORNER_XY 454653.261 3928608.357 *
SE_QUAD_CORNER_XY 454618.160 3921676.720 *
SW_QUAD_CORNER_XY 448945.374 3921707.218 *
SECONDARY_NW_QUAD_XY 448983.667 3928439.837 *
SECONDARY_NE_QUAD_XY 454652.198 3928409.315 *
SECONDARY_SE_QUAD_XY 454617.099 3921477.860 *
SECONDARY_SW_QUAD_XY 448944.179 3921508.359 *
RMSE_XY 1.082 *
IMAGE_SOURCE "BLACK AND WHITE FILM" *
SOURCE_IMAGE_ID "NAPP 6853 84" *
SOURCE_IMAGE_DATE 1994 05 28 *
SOURCE_IMAGE_ID "NAPP 6853 85" *
SOURCE_IMAGE_DATE 1994 05 28 *
SOURCE_DEM_DATE 1967 01 01 *
AGENCY "WESTERN MAPPING CENTER (WMC)" *
PRODUCER "ANALYTICAL SURVEYS INC." *
PRODUCTION_SYSTEM "ORBIT OR_RECTIFY V.5.2" *
STANDARD_VERSION 1996 12 *
METADATA_DATE 1998 04 25 *
DATA_FILE_SIZE 48734220 *
BYTE_COUNT 6420 * * * * * * * * * * * * * * * * * * * * * * * * * * * * * * * * * * * *
END_USGS_HEADER *
