BEGIN_USGS_DOQ_HEADER *
QUADRANGLE_NAME "KLINKER MOUNTAIN" *
QUADRANT NW *
NORTH_LATITUDE 35 30 00.000 *
WEST_LONGITUDE -117 37 30.000 *
SOUTH_LATITUDE 35 26 15.000 *
EAST_LONGITUDE -117 33 45.000 *
PRODUCTION_DATE 1998 04 24 *
RASTER_ORDER LEFT_RIGHT/TOP_BOTTOM *
BAND_ORGANIZATION "SINGLE FILE" *
BAND_CONTENT BLACK&WHITE *
BITS_PER_PIXEL 8 *
SAMPLES_AND_LINES 6420 7590 *
HORIZONTAL_DATUM NAD83 *
HORIZONTAL_COORDINATE_SYSTEM UTM *
COORDINATE_ZONE 11 *
HORIZONTAL_UNITS METERS *
HORIZONTAL_RESOLUTION 1.000 *
SECONDARY_HORIZONTAL_DATUM NAD27 *
XY_ORIGIN 442890.000 3928980.000 *
SECONDARY_XY_ORIGIN 442969.757 3928784.971 *
NATION US *
STATE CA *
NW_QUAD_CORNER_XY 443316.443 3928672.991 *
NE_QUAD_CORNER_XY 448984.862 3928638.879 *
SE_QUAD_CORNER_XY 448945.374 3921707.218 *
SW_QUAD_CORNER_XY 443272.567 3921741.305 *
SECONDARY_NW_QUAD_XY 443315.115 3928473.951 *
SECONDARY_NE_QUAD_XY 448983.667 3928439.837 *
SECONDARY_SE_QUAD_XY 448944.179 3921508.359 *
SECONDARY_SW_QUAD_XY 443271.239 3921542.447 *
RMSE_XY 1.214 *
IMAGE_SOURCE "BLACK AND WHITE FILM" *
SOURCE_IMAGE_ID "NAPP 6852 44" *
SOURCE_IMAGE_DATE 1994 05 28 *
SOURCE_DEM_DATE 1967 01 01 *
AGENCY "WESTERN MAPPING CENTER (WMC)" *
PRODUCER "ANALYTICAL SURVEYS INC." *
PRODUCTION_SYSTEM "ORBIT OR_RECTIFY V.5.2" *
STANDARD_VERSION 1996 12 *
METADATA_DATE 1998 04 25 *
DATA_FILE_SIZE 48734220 *
BYTE_COUNT 6420 * * * * * * * * * * * * * * * * * * * * * * * * * * * * * * * * * * * * * *
END_USGS_HEADER *
