BEGIN_USGS_DOQ_HEADER *
QUADRANGLE_NAME "KLINKER MOUNTAIN" *
QUADRANT SW *
NORTH_LATITUDE 35 26 15.000 *
WEST_LONGITUDE -117 37 30.000 *
SOUTH_LATITUDE 35 22 30.000 *
EAST_LONGITUDE -117 33 45.000 *
PRODUCTION_DATE 1998 04 24 *
RASTER_ORDER LEFT_RIGHT/TOP_BOTTOM *
BAND_ORGANIZATION "SINGLE FILE" *
BAND_CONTENT BLACK&WHITE *
BITS_PER_PIXEL 8 *
SAMPLES_AND_LINES 6420 7590 *
HORIZONTAL_DATUM NAD83 *
HORIZONTAL_COORDINATE_SYSTEM UTM *
COORDINATE_ZONE 11 *
HORIZONTAL_UNITS METERS *
HORIZONTAL_RESOLUTION 1.000 *
SECONDARY_HORIZONTAL_DATUM NAD27 *
XY_ORIGIN 442830.000 3922050.000 *
SECONDARY_XY_ORIGIN 442909.792 3921854.952 *
NATION US *
STATE CA *
NW_QUAD_CORNER_XY 443272.567 3921741.305 *
NE_QUAD_CORNER_XY 448945.374 3921707.218 *
SE_QUAD_CORNER_XY 448905.946 3914775.629 *
SW_QUAD_CORNER_XY 443228.757 3914809.690 *
SECONDARY_NW_QUAD_XY 443271.239 3921542.447 *
SECONDARY_NE_QUAD_XY 448944.179 3921508.359 *
SECONDARY_SE_QUAD_XY 448904.752 3914576.953 *
SECONDARY_SW_QUAD_XY 443227.431 3914611.015 *
RMSE_XY 1.076 *
IMAGE_SOURCE "BLACK AND WHITE FILM" *
SOURCE_IMAGE_ID "NAPP 6852 42" *
SOURCE_IMAGE_DATE 1994 05 28 *
SOURCE_DEM_DATE 1967 01 01 *
AGENCY "WESTERN MAPPING CENTER (WMC)" *
PRODUCER "ANALYTICAL SURVEYS INC." *
PRODUCTION_SYSTEM "ORBIT OR_RECTIFY V.5.2" *
STANDARD_VERSION 1996 12 *
METADATA_DATE 1998 04 25 *
DATA_FILE_SIZE 48734220 *
BYTE_COUNT 6420 * * * * * * * * * * * * * * * * * * * * * * * * * * * * * * * * * * * * * *
END_USGS_HEADER *
