BEGIN_USGS_DOQ_HEADER *
QUADRANGLE_NAME "EL PASO PEAKS" *
QUADRANT NW *
NORTH_LATITUDE 35 30 00.000 *
WEST_LONGITUDE -117 45 00.000 *
SOUTH_LATITUDE 35 26 15.000 *
EAST_LONGITUDE -117 41 15.000 *
PRODUCTION_DATE 1998 04 24 *
RASTER_ORDER LEFT_RIGHT/TOP_BOTTOM *
BAND_ORGANIZATION "SINGLE FILE" *
BAND_CONTENT BLACK&WHITE *
BITS_PER_PIXEL 8 *
SAMPLES_AND_LINES 6450 7620 *
HORIZONTAL_DATUM NAD83 *
HORIZONTAL_COORDINATE_SYSTEM UTM *
COORDINATE_ZONE 11 *
HORIZONTAL_UNITS METERS *
HORIZONTAL_RESOLUTION 1.000 *
SECONDARY_HORIZONTAL_DATUM NAD27 *
XY_ORIGIN 431520.000 3929070.000 *
SECONDARY_XY_ORIGIN 431599.819 3928874.958 *
NATION US *
STATE CA *
NW_QUAD_CORNER_XY 431979.537 3928751.990 *
NE_QUAD_CORNER_XY 437648.002 3928710.695 *
SE_QUAD_CORNER_XY 437599.737 3921778.980 *
SW_QUAD_CORNER_XY 431926.884 3921820.244 *
SECONDARY_NW_QUAD_XY 431977.943 3928552.951 *
SECONDARY_NE_QUAD_XY 437646.541 3928511.655 *
SECONDARY_SE_QUAD_XY 437598.277 3921580.123 *
SECONDARY_SW_QUAD_XY 431925.291 3921621.387 *
RMSE_XY 1.960 *
IMAGE_SOURCE "BLACK AND WHITE FILM" *
SOURCE_IMAGE_ID "NAPP 6850 28" *
SOURCE_IMAGE_DATE 1994 05 28 *
SOURCE_IMAGE_ID "NAPP 6850 26" *
SOURCE_IMAGE_DATE 1994 05 28 *
SOURCE_DEM_DATE 1965 01 01 *
AGENCY "WESTERN MAPPING CENTER (WMC)" *
PRODUCER "ANALYTICAL SURVEYS INC." *
PRODUCTION_SYSTEM "ORBIT OR_RECTIFY V.5.2" *
STANDARD_VERSION 1996 12 *
METADATA_DATE 1998 04 25 *
DATA_FILE_SIZE 49155450 *
BYTE_COUNT 6450 * * * * * * * * * * * * * * * * * * * * * * * * * * * * * * * * * * * *
END_USGS_HEADER *
