BEGIN_USGS_DOQ_HEADER *
QUADRANGLE_NAME "GARLOCK" *
QUADRANT NE *
NORTH_LATITUDE 35 30 00.000 *
WEST_LONGITUDE -117 48 45.000 *
SOUTH_LATITUDE 35 26 15.000 *
EAST_LONGITUDE -117 45 00.000 *
PRODUCTION_DATE 1998 04 24 *
RASTER_ORDER LEFT_RIGHT/TOP_BOTTOM *
BAND_ORGANIZATION "SINGLE FILE" *
BAND_CONTENT BLACK&WHITE *
BITS_PER_PIXEL 8 *
SAMPLES_AND_LINES 6450 7590 *
HORIZONTAL_DATUM NAD83 *
HORIZONTAL_COORDINATE_SYSTEM UTM *
COORDINATE_ZONE 11 *
HORIZONTAL_UNITS METERS *
HORIZONTAL_RESOLUTION 1.000 *
SECONDARY_HORIZONTAL_DATUM NAD27 *
XY_ORIGIN 425850.000 3929100.000 *
SECONDARY_XY_ORIGIN 425929.825 3928904.975 *
NATION US *
STATE CA *
NW_QUAD_CORNER_XY 426311.045 3928796.876 *
NE_QUAD_CORNER_XY 431979.537 3928751.990 *
SE_QUAD_CORNER_XY 431926.884 3921820.244 *
SW_QUAD_CORNER_XY 426254.003 3921865.097 *
SECONDARY_NW_QUAD_XY 426309.318 3928597.839 *
SECONDARY_NE_QUAD_XY 431977.943 3928552.951 *
SECONDARY_SE_QUAD_XY 431925.291 3921621.387 *
SECONDARY_SW_QUAD_XY 426252.278 3921666.241 *
RMSE_XY 2.060 *
IMAGE_SOURCE "BLACK AND WHITE FILM" *
SOURCE_IMAGE_ID "NAPP 6850 63" *
SOURCE_IMAGE_DATE 1994 05 28 *
SOURCE_DEM_DATE 1965 01 01 *
AGENCY "WESTERN MAPPING CENTER (WMC)" *
PRODUCER "ANALYTICAL SURVEYS INC." *
PRODUCTION_SYSTEM "ORBIT OR_RECTIFY V.5.2" *
STANDARD_VERSION 1996 12 *
METADATA_DATE 1998 04 25 *
DATA_FILE_SIZE 48961950 *
BYTE_COUNT 6450 * * * * * * * * * * * * * * * * * * * * * * * * * * * * * * * * * * * * * *
END_USGS_HEADER *
