BEGIN_USGS_DOQ_HEADER *
QUADRANGLE_NAME "GARLOCK" *
QUADRANT NW *
NORTH_LATITUDE 35 30 00.000 *
WEST_LONGITUDE -117 52 30.000 *
SOUTH_LATITUDE 35 26 15.000 *
EAST_LONGITUDE -117 48 45.000 *
PRODUCTION_DATE 1998 04 24 *
RASTER_ORDER LEFT_RIGHT/TOP_BOTTOM *
BAND_ORGANIZATION "SINGLE FILE" *
BAND_CONTENT BLACK&WHITE *
BITS_PER_PIXEL 8 *
SAMPLES_AND_LINES 6450 7620 *
HORIZONTAL_DATUM NAD83 *
HORIZONTAL_COORDINATE_SYSTEM UTM *
COORDINATE_ZONE 11 *
HORIZONTAL_UNITS METERS *
HORIZONTAL_RESOLUTION 1.000 *
SECONDARY_HORIZONTAL_DATUM NAD27 *
XY_ORIGIN 420180.000 3929160.000 *
SECONDARY_XY_ORIGIN 420259.826 3928964.988 *
NATION US *
STATE CA *
NW_QUAD_CORNER_XY 420642.524 3928845.355 *
NE_QUAD_CORNER_XY 426311.045 3928796.876 *
SE_QUAD_CORNER_XY 426254.003 3921865.097 *
SW_QUAD_CORNER_XY 420581.093 3921913.538 *
SECONDARY_NW_QUAD_XY 420640.665 3928646.318 *
SECONDARY_NE_QUAD_XY 426309.318 3928597.839 *
SECONDARY_SE_QUAD_XY 426252.278 3921666.241 *
SECONDARY_SW_QUAD_XY 420579.235 3921714.684 *
RMSE_XY 2.012 *
IMAGE_SOURCE "BLACK AND WHITE FILM" *
SOURCE_IMAGE_ID "NAPP 6850 118" *
SOURCE_IMAGE_DATE 1994 05 28 *
SOURCE_DEM_DATE 1965 01 01 *
AGENCY "WESTERN MAPPING CENTER (WMC)" *
PRODUCER "ANALYTICAL SURVEYS INC." *
PRODUCTION_SYSTEM "ORBIT OR_RECTIFY V.5.2" *
STANDARD_VERSION 1996 12 *
METADATA_DATE 1998 04 25 *
DATA_FILE_SIZE 49155450 *
BYTE_COUNT 6450 * * * * * * * * * * * * * * * * * * * * * * * * * * * * * * * * * * * * * *
END_USGS_HEADER *
