BEGIN_USGS_DOQ_HEADER *
QUADRANGLE_NAME "SALTDALE NW" *
QUADRANT NW *
NORTH_LATITUDE 35 30 00.000 *
WEST_LONGITUDE -118 00 00.000 *
SOUTH_LATITUDE 35 26 15.000 *
EAST_LONGITUDE -117 56 15.000 *
PRODUCTION_DATE 1998 05 04 *
RASTER_ORDER LEFT_RIGHT/TOP_BOTTOM *
BAND_ORGANIZATION "SINGLE FILE" *
BAND_CONTENT BLACK&WHITE *
BITS_PER_PIXEL 8 *
SAMPLES_AND_LINES 6450 7620 *
HORIZONTAL_DATUM NAD83 *
HORIZONTAL_COORDINATE_SYSTEM UTM *
COORDINATE_ZONE 11 *
HORIZONTAL_UNITS METERS *
HORIZONTAL_RESOLUTION 1.000 *
SECONDARY_HORIZONTAL_DATUM NAD27 *
XY_ORIGIN 408840.000 3929280.000 *
SECONDARY_XY_ORIGIN 408919.828 3929085.014 *
NATION US *
STATE CA *
NW_QUAD_CORNER_XY 409305.388 3928953.087 *
NE_QUAD_CORNER_XY 414973.973 3928897.425 *
SE_QUAD_CORNER_XY 414908.153 3921965.569 *
SW_QUAD_CORNER_XY 409235.178 3922021.189 *
SECONDARY_NW_QUAD_XY 409303.262 3928754.053 *
SECONDARY_NE_QUAD_XY 414971.980 3928698.389 *
SECONDARY_SE_QUAD_XY 414906.162 3921766.716 *
SECONDARY_SW_QUAD_XY 409233.055 3921822.337 *
RMSE_XY 1.700 *
IMAGE_SOURCE "BLACK AND WHITE FILM" *
SOURCE_IMAGE_ID "NAPP 6850 192" *
SOURCE_IMAGE_DATE 1994 05 28 *
SOURCE_DEM_DATE 1965 01 01 *
AGENCY "WESTERN MAPPING CENTER (WMC)" *
PRODUCER "ANALYTICAL SURVEYS INC." *
PRODUCTION_SYSTEM "ORBIT OR_RECTIFY V.5.2" *
STANDARD_VERSION 1996 12 *
METADATA_DATE 1998 05 04 *
DATA_FILE_SIZE 49155450 *
BYTE_COUNT 6450 * * * * * * * * * * * * * * * * * * * * * * * * * * * * * * * * * * * * * *
END_USGS_HEADER *
