BEGIN_USGS_DOQ_HEADER *
QUADRANGLE_NAME "SALTDALE NW" *
QUADRANT SE *
NORTH_LATITUDE 35 26 15.000 *
WEST_LONGITUDE -117 56 15.000 *
SOUTH_LATITUDE 35 22 30.000 *
EAST_LONGITUDE -117 52 30.000 *
PRODUCTION_DATE 1998 05 04 *
RASTER_ORDER LEFT_RIGHT/TOP_BOTTOM *
BAND_ORGANIZATION "SINGLE FILE" *
BAND_CONTENT BLACK&WHITE *
BITS_PER_PIXEL 8 *
SAMPLES_AND_LINES 6450 7620 *
HORIZONTAL_DATUM NAD83 *
HORIZONTAL_COORDINATE_SYSTEM UTM *
COORDINATE_ZONE 11 *
HORIZONTAL_UNITS METERS *
HORIZONTAL_RESOLUTION 1.000 *
SECONDARY_HORIZONTAL_DATUM NAD27 *
XY_ORIGIN 414450.000 3922290.000 *
SECONDARY_XY_ORIGIN 414529.906 3922095.001 *
NATION US *
STATE CA *
NW_QUAD_CORNER_XY 414908.153 3921965.569 *
NE_QUAD_CORNER_XY 420581.093 3921913.538 *
SE_QUAD_CORNER_XY 420519.757 3914981.792 *
SW_QUAD_CORNER_XY 414842.434 3915033.783 *
SECONDARY_NW_QUAD_XY 414906.162 3921766.716 *
SECONDARY_NE_QUAD_XY 420579.235 3921714.684 *
SECONDARY_SE_QUAD_XY 420517.900 3914783.120 *
SECONDARY_SW_QUAD_XY 414840.445 3914835.113 *
RMSE_XY 1.967 *
IMAGE_SOURCE "BLACK AND WHITE FILM" *
SOURCE_IMAGE_ID "NAPP 6850 139" *
SOURCE_IMAGE_DATE 1994 05 28 *
SOURCE_DEM_DATE 1965 01 01 *
AGENCY "WESTERN MAPPING CENTER (WMC)" *
PRODUCER "ANALYTICAL SURVEYS INC." *
PRODUCTION_SYSTEM "ORBIT OR_RECTIFY V.5.2" *
STANDARD_VERSION 1996 12 *
METADATA_DATE 1998 05 04 *
DATA_FILE_SIZE 49155450 *
BYTE_COUNT 6450 * * * * * * * * * * * * * * * * * * * * * * * * * * * * * * * * * * * * * *
END_USGS_HEADER *
