BEGIN_USGS_DOQ_HEADER *
QUADRANGLE_NAME "SALTDALE NW" *
QUADRANT SW *
NORTH_LATITUDE 35 26 15.000 *
WEST_LONGITUDE -118 00 00.000 *
SOUTH_LATITUDE 35 22 30.000 *
EAST_LONGITUDE -117 56 15.000 *
PRODUCTION_DATE 1998 05 04 *
RASTER_ORDER LEFT_RIGHT/TOP_BOTTOM *
BAND_ORGANIZATION "SINGLE FILE" *
BAND_CONTENT BLACK&WHITE *
BITS_PER_PIXEL 8 *
SAMPLES_AND_LINES 6450 7620 *
HORIZONTAL_DATUM NAD83 *
HORIZONTAL_COORDINATE_SYSTEM UTM *
COORDINATE_ZONE 11 *
HORIZONTAL_UNITS METERS *
HORIZONTAL_RESOLUTION 1.000 *
SECONDARY_HORIZONTAL_DATUM NAD27 *
XY_ORIGIN 408780.000 3922350.000 *
SECONDARY_XY_ORIGIN 408859.926 3922155.020 *
NATION US *
STATE CA *
NW_QUAD_CORNER_XY 409235.178 3922021.189 *
NE_QUAD_CORNER_XY 414908.153 3921965.569 *
SE_QUAD_CORNER_XY 414842.434 3915033.783 *
SW_QUAD_CORNER_XY 409165.077 3915089.360 *
SECONDARY_NW_QUAD_XY 409233.055 3921822.337 *
SECONDARY_NE_QUAD_XY 414906.162 3921766.716 *
SECONDARY_SE_QUAD_XY 414840.445 3914835.113 *
SECONDARY_SW_QUAD_XY 409162.955 3914890.692 *
RMSE_XY 2.259 *
IMAGE_SOURCE "BLACK AND WHITE FILM" *
SOURCE_IMAGE_ID "NAPP 6850 190" *
SOURCE_IMAGE_DATE 1994 05 28 *
SOURCE_DEM_DATE 1965 01 01 *
AGENCY "WESTERN MAPPING CENTER (WMC)" *
PRODUCER "ANALYTICAL SURVEYS INC." *
PRODUCTION_SYSTEM "ORBIT OR_RECTIFY V.5.2" *
STANDARD_VERSION 1996 12 *
METADATA_DATE 1998 05 04 *
DATA_FILE_SIZE 49155450 *
BYTE_COUNT 6450 * * * * * * * * * * * * * * * * * * * * * * * * * * * * * * * * * * * * * *
END_USGS_HEADER *
