BEGIN_USGS_DOQ_HEADER *
QUADRANGLE_NAME "PILOT KNOB VALLEY WEST" *
QUADRANT SE *
NORTH_LATITUDE 35 33 45.000 *
WEST_LONGITUDE -117 11 15.000 *
SOUTH_LATITUDE 35 30 00.000 *
EAST_LONGITUDE -117 07 30.000 *
PRODUCTION_DATE 1998 05 06 *
RASTER_ORDER LEFT_RIGHT/TOP_BOTTOM *
BAND_ORGANIZATION "SINGLE FILE" *
BAND_CONTENT BLACK&WHITE *
BITS_PER_PIXEL 8 *
SAMPLES_AND_LINES 6390 7590 *
HORIZONTAL_DATUM NAD83 *
HORIZONTAL_COORDINATE_SYSTEM UTM *
COORDINATE_ZONE 11 *
HORIZONTAL_UNITS METERS *
HORIZONTAL_RESOLUTION 1.000 *
SECONDARY_HORIZONTAL_DATUM NAD27 *
XY_ORIGIN 482610.000 3935760.000 *
SECONDARY_XY_ORIGIN 482689.333 3935564.918 *
NATION US *
STATE CA *
NW_QUAD_CORNER_XY 483008.216 3935441.248 *
NE_QUAD_CORNER_XY 488672.148 3935432.265 *
SE_QUAD_CORNER_XY 488663.360 3928500.638 *
SW_QUAD_CORNER_XY 482995.034 3928509.614 *
SECONDARY_NW_QUAD_XY 483007.818 3935242.022 *
SECONDARY_NE_QUAD_XY 488671.882 3935233.039 *
SECONDARY_SE_QUAD_XY 488663.094 3928301.593 *
SECONDARY_SW_QUAD_XY 482994.635 3928310.570 *
RMSE_XY 1.753 *
IMAGE_SOURCE "BLACK AND WHITE FILM" *
SOURCE_IMAGE_ID "NAPP 6879 125" *
SOURCE_IMAGE_DATE 1995 10 07 *
SOURCE_DEM_DATE 1984 01 01 *
AGENCY "WESTERN MAPPING CENTER (WMC)" *
PRODUCER "ANALYTICAL SURVEYS INC." *
PRODUCTION_SYSTEM "ORBIT OR_RECTIFY V.5.2" *
STANDARD_VERSION 1996 12 *
METADATA_DATE 1998 05 06 *
DATA_FILE_SIZE 48506490 *
BYTE_COUNT 6390 * * * * * * * * * * * * * * * * * * * * * * * * * * * * * * * * * * * * *
END_USGS_HEADER *
