BEGIN_USGS_DOQ_HEADER *
QUADRANGLE_NAME "CHRISTMAS CANYON" *
QUADRANT SE *
NORTH_LATITUDE 35 33 45.000 *
WEST_LONGITUDE -117 18 45.000 *
SOUTH_LATITUDE 35 30 00.000 *
EAST_LONGITUDE -117 15 00.000 *
PRODUCTION_DATE 1998 05 06 *
RASTER_ORDER LEFT_RIGHT/TOP_BOTTOM *
BAND_ORGANIZATION "SINGLE FILE" *
BAND_CONTENT BLACK&WHITE *
BITS_PER_PIXEL 8 *
SAMPLES_AND_LINES 6390 7590 *
HORIZONTAL_DATUM NAD83 *
HORIZONTAL_COORDINATE_SYSTEM UTM *
COORDINATE_ZONE 11 *
HORIZONTAL_UNITS METERS *
HORIZONTAL_RESOLUTION 1.000 *
SECONDARY_HORIZONTAL_DATUM NAD27 *
XY_ORIGIN 471270.000 3935790.000 *
SECONDARY_XY_ORIGIN 471349.474 3935594.939 *
NATION US *
STATE CA *
NW_QUAD_CORNER_XY 471680.331 3935469.995 *
NE_QUAD_CORNER_XY 477344.278 3935453.825 *
SE_QUAD_CORNER_XY 477326.701 3928522.181 *
SW_QUAD_CORNER_XY 471658.360 3928538.339 *
SECONDARY_NW_QUAD_XY 471679.667 3935270.770 *
SECONDARY_NE_QUAD_XY 477343.747 3935254.599 *
SECONDARY_SE_QUAD_XY 477326.170 3928323.137 *
SECONDARY_SW_QUAD_XY 471657.696 3928339.295 *
RMSE_XY 1.261 *
IMAGE_SOURCE "BLACK AND WHITE FILM" *
SOURCE_IMAGE_ID "NAPP 6855 4" *
SOURCE_IMAGE_DATE 1994 05 29 *
SOURCE_DEM_DATE 1973 01 01 *
AGENCY "WESTERN MAPPING CENTER (WMC)" *
PRODUCER "ANALYTICAL SURVEYS INC." *
PRODUCTION_SYSTEM "ORBIT OR_RECTIFY V.5.2" *
STANDARD_VERSION 1996 12 *
METADATA_DATE 1998 05 06 *
DATA_FILE_SIZE 48506490 *
BYTE_COUNT 6390 * * * * * * * * * * * * * * * * * * * * * * * * * * * * * * * * * * * * *
END_USGS_HEADER *
