BEGIN_USGS_DOQ_HEADER *
QUADRANGLE_NAME "SPANGLER HILLS EAST" *
QUADRANT NE *
NORTH_LATITUDE 35 37 30.000 *
WEST_LONGITUDE -117 26 15.000 *
SOUTH_LATITUDE 35 33 45.000 *
EAST_LONGITUDE -117 22 30.000 *
PRODUCTION_DATE 1998 05 06 *
RASTER_ORDER LEFT_RIGHT/TOP_BOTTOM *
BAND_ORGANIZATION "SINGLE FILE" *
BAND_CONTENT BLACK&WHITE *
BITS_PER_PIXEL 8 *
SAMPLES_AND_LINES 6390 7590 *
HORIZONTAL_DATUM NAD83 *
HORIZONTAL_COORDINATE_SYSTEM UTM *
COORDINATE_ZONE 11 *
HORIZONTAL_UNITS METERS *
HORIZONTAL_RESOLUTION 1.000 *
SECONDARY_HORIZONTAL_DATUM NAD27 *
XY_ORIGIN 459960.000 3942750.000 *
SECONDARY_XY_ORIGIN 460039.672 3942554.956 *
NATION US *
STATE CA *
NW_QUAD_CORNER_XY 460383.210 3942444.875 *
NE_QUAD_CORNER_XY 466042.780 3942421.501 *
SE_QUAD_CORNER_XY 466016.374 3935489.759 *
SW_QUAD_CORNER_XY 460352.402 3935513.116 *
SECONDARY_NW_QUAD_XY 460382.278 3942245.470 *
SECONDARY_NE_QUAD_XY 466041.981 3942222.095 *
SECONDARY_SE_QUAD_XY 466015.576 3935290.534 *
SECONDARY_SW_QUAD_XY 460351.472 3935313.891 *
RMSE_XY 1.530 *
IMAGE_SOURCE "BLACK AND WHITE FILM" *
SOURCE_IMAGE_ID "NAPP 6854 2" *
SOURCE_IMAGE_DATE 1994 05 28 *
SOURCE_DEM_DATE 1973 01 01 *
AGENCY "WESTERN MAPPING CENTER (WMC)" *
PRODUCER "ANALYTICAL SURVEYS INC." *
PRODUCTION_SYSTEM "ORBIT OR_RECTIFY V.5.2" *
STANDARD_VERSION 1996 12 *
METADATA_DATE 1998 05 06 *
DATA_FILE_SIZE 48506490 *
BYTE_COUNT 6390 * * * * * * * * * * * * * * * * * * * * * * * * * * * * * * * * * * * * *
END_USGS_HEADER *
