BEGIN_USGS_DOQ_HEADER *
QUADRANGLE_NAME "SPANGLER HILLS EAST" *
QUADRANT SW *
NORTH_LATITUDE 35 33 45.000 *
WEST_LONGITUDE -117 30 00.000 *
SOUTH_LATITUDE 35 30 00.000 *
EAST_LONGITUDE -117 26 15.000 *
PRODUCTION_DATE 1998 05 06 *
RASTER_ORDER LEFT_RIGHT/TOP_BOTTOM *
BAND_ORGANIZATION "SINGLE FILE" *
BAND_CONTENT BLACK&WHITE *
BITS_PER_PIXEL 8 *
SAMPLES_AND_LINES 6420 7590 *
HORIZONTAL_DATUM NAD83 *
HORIZONTAL_COORDINATE_SYSTEM UTM *
COORDINATE_ZONE 11 *
HORIZONTAL_UNITS METERS *
HORIZONTAL_RESOLUTION 1.000 *
SECONDARY_HORIZONTAL_DATUM NAD27 *
XY_ORIGIN 454260.000 3935850.000 *
SECONDARY_XY_ORIGIN 454339.723 3935654.973 *
NATION US *
STATE CA *
NW_QUAD_CORNER_XY 454688.416 3935540.066 *
NE_QUAD_CORNER_XY 460352.402 3935513.116 *
SE_QUAD_CORNER_XY 460321.642 3928581.427 *
SW_QUAD_CORNER_XY 454653.261 3928608.357 *
SECONDARY_NW_QUAD_XY 454687.352 3935340.842 *
SECONDARY_NE_QUAD_XY 460351.472 3935313.891 *
SECONDARY_SE_QUAD_XY 460320.712 3928382.384 *
SECONDARY_SW_QUAD_XY 454652.198 3928409.315 *
RMSE_XY 0.797 *
IMAGE_SOURCE "BLACK AND WHITE FILM" *
SOURCE_IMAGE_ID "NAPP 6880 16" *
SOURCE_IMAGE_DATE 1995 10 07 *
SOURCE_DEM_DATE 1973 01 01 *
AGENCY "WESTERN MAPPING CENTER (WMC)" *
PRODUCER "ANALYTICAL SURVEYS INC." *
PRODUCTION_SYSTEM "ORBIT OR_RECTIFY V.5.2" *
STANDARD_VERSION 1996 12 *
METADATA_DATE 1998 05 06 *
DATA_FILE_SIZE 48734220 *
BYTE_COUNT 6420 * * * * * * * * * * * * * * * * * * * * * * * * * * * * * * * * * * * * * *
END_USGS_HEADER *
