BEGIN_USGS_DOQ_HEADER *
QUADRANGLE_NAME "SPANGLER HILLS WEST" *
QUADRANT NW *
NORTH_LATITUDE 35 37 30.000 *
WEST_LONGITUDE -117 37 30.000 *
SOUTH_LATITUDE 35 33 45.000 *
EAST_LONGITUDE -117 33 45.000 *
PRODUCTION_DATE 1998 05 12 *
RASTER_ORDER LEFT_RIGHT/TOP_BOTTOM *
BAND_ORGANIZATION "SINGLE FILE" *
BAND_CONTENT BLACK&WHITE *
BITS_PER_PIXEL 8 *
SAMPLES_AND_LINES 6420 7590 *
HORIZONTAL_DATUM NAD83 *
HORIZONTAL_COORDINATE_SYSTEM UTM *
COORDINATE_ZONE 11 *
HORIZONTAL_UNITS METERS *
HORIZONTAL_RESOLUTION 1.000 *
SECONDARY_HORIZONTAL_DATUM NAD27 *
XY_ORIGIN 442950.000 3942840.000 *
SECONDARY_XY_ORIGIN 443029.782 3942644.926 *
NATION US *
STATE CA *
NW_QUAD_CORNER_XY 443404.400 3942536.577 *
NE_QUAD_CORNER_XY 449064.022 3942502.413 *
SE_QUAD_CORNER_XY 449024.412 3935570.610 *
SW_QUAD_CORNER_XY 443360.388 3935604.748 *
SECONDARY_NW_QUAD_XY 443403.069 3942337.174 *
SECONDARY_NE_QUAD_XY 449062.825 3942303.010 *
SECONDARY_SE_QUAD_XY 449023.215 3935371.387 *
SECONDARY_SW_QUAD_XY 443359.058 3935405.526 *
RMSE_XY 1.050 *
IMAGE_SOURCE "BLACK AND WHITE FILM" *
SOURCE_IMAGE_ID "NAPP 6880 59" *
SOURCE_IMAGE_DATE 1995 10 07 *
SOURCE_DEM_DATE 1973 01 01 *
AGENCY "WESTERN MAPPING CENTER (WMC)" *
PRODUCER "ANALYTICAL SURVEYS INC." *
PRODUCTION_SYSTEM "ORBIT OR_RECTIFY V.5.2" *
STANDARD_VERSION 1996 12 *
METADATA_DATE 1998 05 12 *
DATA_FILE_SIZE 48734220 *
BYTE_COUNT 6420 * * * * * * * * * * * * * * * * * * * * * * * * * * * * * * * * * * * * * *
END_USGS_HEADER *
