BEGIN_USGS_DOQ_HEADER *
QUADRANGLE_NAME "SPANGLER HILLS WEST" *
QUADRANT SE *
NORTH_LATITUDE 35 33 45.000 *
WEST_LONGITUDE -117 33 45.000 *
SOUTH_LATITUDE 35 30 00.000 *
EAST_LONGITUDE -117 30 00.000 *
PRODUCTION_DATE 1998 05 12 *
RASTER_ORDER LEFT_RIGHT/TOP_BOTTOM *
BAND_ORGANIZATION "SINGLE FILE" *
BAND_CONTENT BLACK&WHITE *
BITS_PER_PIXEL 8 *
SAMPLES_AND_LINES 6420 7590 *
HORIZONTAL_DATUM NAD83 *
HORIZONTAL_COORDINATE_SYSTEM UTM *
COORDINATE_ZONE 11 *
HORIZONTAL_UNITS METERS *
HORIZONTAL_RESOLUTION 1.000 *
SECONDARY_HORIZONTAL_DATUM NAD27 *
XY_ORIGIN 448590.000 3935880.000 *
SECONDARY_XY_ORIGIN 448669.743 3935684.960 *
NATION US *
STATE CA *
NW_QUAD_CORNER_XY 449024.412 3935570.610 *
NE_QUAD_CORNER_XY 454688.416 3935540.066 *
SE_QUAD_CORNER_XY 454653.261 3928608.357 *
SW_QUAD_CORNER_XY 448984.862 3928638.879 *
SECONDARY_NW_QUAD_XY 449023.215 3935371.387 *
SECONDARY_NE_QUAD_XY 454687.352 3935340.842 *
SECONDARY_SE_QUAD_XY 454652.198 3928409.315 *
SECONDARY_SW_QUAD_XY 448983.667 3928439.837 *
RMSE_XY 1.165 *
IMAGE_SOURCE "BLACK AND WHITE FILM" *
SOURCE_IMAGE_ID "NAPP 6880 35" *
SOURCE_IMAGE_DATE 1995 10 07 *
SOURCE_DEM_DATE 1973 01 01 *
AGENCY "WESTERN MAPPING CENTER (WMC)" *
PRODUCER "ANALYTICAL SURVEYS INC." *
PRODUCTION_SYSTEM "ORBIT OR_RECTIFY V.5.2" *
STANDARD_VERSION 1996 12 *
METADATA_DATE 1998 05 12 *
DATA_FILE_SIZE 48734220 *
BYTE_COUNT 6420 * * * * * * * * * * * * * * * * * * * * * * * * * * * * * * * * * * * * * *
END_USGS_HEADER *
