BEGIN_USGS_DOQ_HEADER *
QUADRANGLE_NAME "RIDGECREST SOUTH" *
QUADRANT NW *
NORTH_LATITUDE 35 37 30.000 *
WEST_LONGITUDE -117 45 00.000 *
SOUTH_LATITUDE 35 33 45.000 *
EAST_LONGITUDE -117 41 15.000 *
PRODUCTION_DATE 1998 05 12 *
RASTER_ORDER LEFT_RIGHT/TOP_BOTTOM *
BAND_ORGANIZATION "SINGLE FILE" *
BAND_CONTENT BLACK&WHITE *
BITS_PER_PIXEL 8 *
SAMPLES_AND_LINES 6420 7620 *
HORIZONTAL_DATUM NAD83 *
HORIZONTAL_COORDINATE_SYSTEM UTM *
COORDINATE_ZONE 11 *
HORIZONTAL_UNITS METERS *
HORIZONTAL_RESOLUTION 1.000 *
SECONDARY_HORIZONTAL_DATUM NAD27 *
XY_ORIGIN 431640.000 3942930.000 *
SECONDARY_XY_ORIGIN 431719.836 3942734.893 *
NATION US *
STATE CA *
NW_QUAD_CORNER_XY 432085.088 3942615.694 *
NE_QUAD_CORNER_XY 437744.756 3942574.337 *
SE_QUAD_CORNER_XY 437696.342 3935642.480 *
SW_QUAD_CORNER_XY 432032.272 3935683.807 *
SECONDARY_NW_QUAD_XY 432083.491 3942416.293 *
SECONDARY_NE_QUAD_XY 437743.292 3942374.935 *
SECONDARY_SE_QUAD_XY 437694.880 3935443.259 *
SECONDARY_SW_QUAD_XY 432030.676 3935484.586 *
RMSE_XY 1.031 *
IMAGE_SOURCE "BLACK AND WHITE FILM" *
SOURCE_IMAGE_ID "NAPP 6850 32" *
SOURCE_IMAGE_DATE 1994 05 28 *
SOURCE_DEM_DATE 1972 01 01 *
AGENCY "WESTERN MAPPING CENTER (WMC)" *
PRODUCER "ANALYTICAL SURVEYS INC." *
PRODUCTION_SYSTEM "ORBIT OR_RECTIFY V.5.2" *
STANDARD_VERSION 1996 12 *
METADATA_DATE 1998 05 12 *
DATA_FILE_SIZE 48926820 *
BYTE_COUNT 6420 * * * * * * * * * * * * * * * * * * * * * * * * * * * * * * * * * * * * * *
END_USGS_HEADER *
