BEGIN_USGS_DOQ_HEADER *
QUADRANGLE_NAME "INYOKERN SE" *
QUADRANT NW *
NORTH_LATITUDE 35 37 30.000 *
WEST_LONGITUDE -117 52 30.000 *
SOUTH_LATITUDE 35 33 45.000 *
EAST_LONGITUDE -117 48 45.000 *
PRODUCTION_DATE 1998 05 12 *
RASTER_ORDER LEFT_RIGHT/TOP_BOTTOM *
BAND_ORGANIZATION "SINGLE FILE" *
BAND_CONTENT BLACK&WHITE *
BITS_PER_PIXEL 8 *
SAMPLES_AND_LINES 6450 7620 *
HORIZONTAL_DATUM NAD83 *
HORIZONTAL_COORDINATE_SYSTEM UTM *
COORDINATE_ZONE 11 *
HORIZONTAL_UNITS METERS *
HORIZONTAL_RESOLUTION 1.000 *
SECONDARY_HORIZONTAL_DATUM NAD27 *
XY_ORIGIN 420300.000 3943020.000 *
SECONDARY_XY_ORIGIN 420379.867 3942824.914 *
NATION US *
STATE CA *
NW_QUAD_CORNER_XY 420765.671 3942709.199 *
NE_QUAD_CORNER_XY 426425.393 3942660.648 *
SE_QUAD_CORNER_XY 426368.175 3935728.727 *
SW_QUAD_CORNER_XY 420704.050 3935777.242 *
SECONDARY_NW_QUAD_XY 420763.808 3942509.800 *
SECONDARY_NE_QUAD_XY 426423.663 3942461.248 *
SECONDARY_SE_QUAD_XY 426366.447 3935529.508 *
SECONDARY_SW_QUAD_XY 420702.189 3935578.023 *
RMSE_XY 0.835 *
IMAGE_SOURCE "BLACK AND WHITE FILM" *
SOURCE_IMAGE_ID "NAPP 6850 122" *
SOURCE_IMAGE_DATE 1994 05 28 *
SOURCE_DEM_DATE 1971 01 01 *
AGENCY "WESTERN MAPPING CENTER (WMC)" *
PRODUCER "ANALYTICAL SURVEYS INC." *
PRODUCTION_SYSTEM "ORBIT OR_RECTIFY V.5.2" *
STANDARD_VERSION 1996 12 *
METADATA_DATE 1998 05 12 *
DATA_FILE_SIZE 49155450 *
BYTE_COUNT 6450 * * * * * * * * * * * * * * * * * * * * * * * * * * * * * * * * * * * * * *
END_USGS_HEADER *
