BEGIN_USGS_DOQ_HEADER *
QUADRANGLE_NAME "INYOKERN SE" *
QUADRANT SE *
NORTH_LATITUDE 35 33 45.000 *
WEST_LONGITUDE -117 48 45.000 *
SOUTH_LATITUDE 35 30 00.000 *
EAST_LONGITUDE -117 45 00.000 *
PRODUCTION_DATE 1998 05 12 *
RASTER_ORDER LEFT_RIGHT/TOP_BOTTOM *
BAND_ORGANIZATION "SINGLE FILE" *
BAND_CONTENT BLACK&WHITE *
BITS_PER_PIXEL 8 *
SAMPLES_AND_LINES 6450 7590 *
HORIZONTAL_DATUM NAD83 *
HORIZONTAL_COORDINATE_SYSTEM UTM *
COORDINATE_ZONE 11 *
HORIZONTAL_UNITS METERS *
HORIZONTAL_RESOLUTION 1.000 *
SECONDARY_HORIZONTAL_DATUM NAD27 *
XY_ORIGIN 425910.000 3936030.000 *
SECONDARY_XY_ORIGIN 425989.835 3935834.937 *
NATION US *
STATE CA *
NW_QUAD_CORNER_XY 426368.175 3935728.727 *
NE_QUAD_CORNER_XY 432032.272 3935683.807 *
SE_QUAD_CORNER_XY 431979.537 3928751.990 *
SW_QUAD_CORNER_XY 426311.045 3928796.876 *
SECONDARY_NW_QUAD_XY 426366.447 3935529.508 *
SECONDARY_NE_QUAD_XY 432030.676 3935484.586 *
SECONDARY_SE_QUAD_XY 431977.943 3928552.951 *
SECONDARY_SW_QUAD_XY 426309.318 3928597.839 *
RMSE_XY 1.648 *
IMAGE_SOURCE "BLACK AND WHITE FILM" *
SOURCE_IMAGE_ID "NAPP 6850 61" *
SOURCE_IMAGE_DATE 1994 05 28 *
SOURCE_DEM_DATE 1971 01 01 *
AGENCY "WESTERN MAPPING CENTER (WMC)" *
PRODUCER "ANALYTICAL SURVEYS INC." *
PRODUCTION_SYSTEM "ORBIT OR_RECTIFY V.5.2" *
STANDARD_VERSION 1996 12 *
METADATA_DATE 1998 05 12 *
DATA_FILE_SIZE 48961950 *
BYTE_COUNT 6450 * * * * * * * * * * * * * * * * * * * * * * * * * * * * * * * * * * * * * *
END_USGS_HEADER *
