BEGIN_USGS_DOQ_HEADER *
QUADRANGLE_NAME "FREEMAN JUNCTION" *
QUADRANT NW *
NORTH_LATITUDE 35 37 30.000 *
WEST_LONGITUDE -118 00 00.000 *
SOUTH_LATITUDE 35 33 45.000 *
EAST_LONGITUDE -117 56 15.000 *
PRODUCTION_DATE 1998 05 19 *
RASTER_ORDER LEFT_RIGHT/TOP_BOTTOM *
BAND_ORGANIZATION "SINGLE FILE" *
BAND_CONTENT BLACK&WHITE *
BITS_PER_PIXEL 8 *
SAMPLES_AND_LINES 6420 7620 *
HORIZONTAL_DATUM NAD83 *
HORIZONTAL_COORDINATE_SYSTEM UTM *
COORDINATE_ZONE 11 *
HORIZONTAL_UNITS METERS *
HORIZONTAL_RESOLUTION 1.000 *
SECONDARY_HORIZONTAL_DATUM NAD27 *
XY_ORIGIN 408990.000 3943140.000 *
SECONDARY_XY_ORIGIN 409069.902 3942944.934 *
NATION US *
STATE CA *
NW_QUAD_CORNER_XY 409446.131 3942817.092 *
NE_QUAD_CORNER_XY 415105.917 3942761.347 *
SE_QUAD_CORNER_XY 415039.894 3935829.351 *
SW_QUAD_CORNER_XY 409375.705 3935885.055 *
SECONDARY_NW_QUAD_XY 409444.002 3942617.696 *
SECONDARY_NE_QUAD_XY 415103.921 3942561.949 *
SECONDARY_SE_QUAD_XY 415037.900 3935630.134 *
SECONDARY_SW_QUAD_XY 409373.578 3935685.839 *
RMSE_XY 2.152 *
IMAGE_SOURCE "BLACK AND WHITE FILM" *
SOURCE_IMAGE_ID "NAPP 6850 264" *
SOURCE_IMAGE_DATE 1994 05 28 *
SOURCE_IMAGE_ID "NAPP 6850 266" *
SOURCE_IMAGE_DATE 1994 05 28 *
SOURCE_DEM_DATE 1971 01 01 *
AGENCY "WESTERN MAPPING CENTER (WMC)" *
PRODUCER "ANALYTICAL SURVEYS INC." *
PRODUCTION_SYSTEM "ORBIT OR_RECTIFY V.5.2" *
STANDARD_VERSION 1996 12 *
METADATA_DATE 1998 05 19 *
DATA_FILE_SIZE 48926820 *
BYTE_COUNT 6420 * * * * * * * * * * * * * * * * * * * * * * * * * * * * * * * * * * * *
END_USGS_HEADER *
