BEGIN_USGS_DOQ_HEADER *
QUADRANGLE_NAME "FREEMAN JUNCTION" *
QUADRANT SE *
NORTH_LATITUDE 35 33 45.000 *
WEST_LONGITUDE -117 56 15.000 *
SOUTH_LATITUDE 35 30 00.000 *
EAST_LONGITUDE -117 52 30.000 *
PRODUCTION_DATE 1998 05 19 *
RASTER_ORDER LEFT_RIGHT/TOP_BOTTOM *
BAND_ORGANIZATION "SINGLE FILE" *
BAND_CONTENT BLACK&WHITE *
BITS_PER_PIXEL 8 *
SAMPLES_AND_LINES 6450 7620 *
HORIZONTAL_DATUM NAD83 *
HORIZONTAL_COORDINATE_SYSTEM UTM *
COORDINATE_ZONE 11 *
HORIZONTAL_UNITS METERS *
HORIZONTAL_RESOLUTION 1.000 *
SECONDARY_HORIZONTAL_DATUM NAD27 *
XY_ORIGIN 414570.000 3936150.000 *
SECONDARY_XY_ORIGIN 414649.855 3935954.961 *
NATION US *
STATE CA *
NW_QUAD_CORNER_XY 415039.894 3935829.351 *
NE_QUAD_CORNER_XY 420704.050 3935777.242 *
SE_QUAD_CORNER_XY 420642.524 3928845.355 *
SW_QUAD_CORNER_XY 414973.973 3928897.425 *
SECONDARY_NW_QUAD_XY 415037.900 3935630.134 *
SECONDARY_NE_QUAD_XY 420702.189 3935578.023 *
SECONDARY_SE_QUAD_XY 420640.665 3928646.318 *
SECONDARY_SW_QUAD_XY 414971.980 3928698.389 *
RMSE_XY 1.814 *
IMAGE_SOURCE "BLACK AND WHITE FILM" *
SOURCE_IMAGE_ID "NAPP 6850 135" *
SOURCE_IMAGE_DATE 1994 05 28 *
SOURCE_DEM_DATE 1971 01 01 *
AGENCY "WESTERN MAPPING CENTER (WMC)" *
PRODUCER "ANALYTICAL SURVEYS INC." *
PRODUCTION_SYSTEM "ORBIT OR_RECTIFY V.5.2" *
STANDARD_VERSION 1996 12 *
METADATA_DATE 1998 05 19 *
DATA_FILE_SIZE 49155450 *
BYTE_COUNT 6450 * * * * * * * * * * * * * * * * * * * * * * * * * * * * * * * * * * * * * *
END_USGS_HEADER *
