BEGIN_USGS_DOQ_HEADER *
QUADRANGLE_NAME "SEARLES LAKE" *
QUADRANT NW *
NORTH_LATITUDE 35 45 00.000 *
WEST_LONGITUDE -117 22 30.000 *
SOUTH_LATITUDE 35 41 15.000 *
EAST_LONGITUDE -117 18 45.000 *
PRODUCTION_DATE 1998 05 06 *
RASTER_ORDER LEFT_RIGHT/TOP_BOTTOM *
BAND_ORGANIZATION "SINGLE FILE" *
BAND_CONTENT BLACK&WHITE *
BITS_PER_PIXEL 8 *
SAMPLES_AND_LINES 6390 7590 *
HORIZONTAL_DATUM NAD83 *
HORIZONTAL_COORDINATE_SYSTEM UTM *
COORDINATE_ZONE 11 *
HORIZONTAL_UNITS METERS *
HORIZONTAL_RESOLUTION 1.000 *
SECONDARY_HORIZONTAL_DATUM NAD27 *
XY_ORIGIN 465660.000 3956610.000 *
SECONDARY_XY_ORIGIN 465739.712 3956414.952 *
NATION US *
STATE CA *
NW_QUAD_CORNER_XY 466095.714 3956285.201 *
NE_QUAD_CORNER_XY 471746.448 3956265.394 *
SE_QUAD_CORNER_XY 471724.375 3949333.522 *
SW_QUAD_CORNER_XY 466069.226 3949353.315 *
SECONDARY_NW_QUAD_XY 466094.914 3956085.437 *
SECONDARY_NE_QUAD_XY 471745.781 3956065.629 *
SECONDARY_SE_QUAD_XY 471723.709 3949133.936 *
SECONDARY_SW_QUAD_XY 466068.427 3949153.730 *
RMSE_XY 1.026 *
IMAGE_SOURCE "BLACK AND WHITE FILM" *
SOURCE_IMAGE_ID "NAPP 6854 89" *
SOURCE_IMAGE_DATE 1994 05 29 *
SOURCE_DEM_DATE 1973 01 01 *
AGENCY "WESTERN MAPPING CENTER (WMC)" *
PRODUCER "ANALYTICAL SURVEYS INC." *
PRODUCTION_SYSTEM "ORBIT OR_RECTIFY V.5.2" *
STANDARD_VERSION 1996 12 *
METADATA_DATE 1998 05 07 *
DATA_FILE_SIZE 48506490 *
BYTE_COUNT 6390 * * * * * * * * * * * * * * * * * * * * * * * * * * * * * * * * * * * * *
END_USGS_HEADER *
