BEGIN_USGS_DOQ_HEADER *
QUADRANGLE_NAME "WESTEND" *
QUADRANT NW *
NORTH_LATITUDE 35 45 00.000 *
WEST_LONGITUDE -117 30 00.000 *
SOUTH_LATITUDE 35 41 15.000 *
EAST_LONGITUDE -117 26 15.000 *
PRODUCTION_DATE 1998 05 06 *
RASTER_ORDER LEFT_RIGHT/TOP_BOTTOM *
BAND_ORGANIZATION "SINGLE FILE" *
BAND_CONTENT BLACK&WHITE *
BITS_PER_PIXEL 8 *
SAMPLES_AND_LINES 6420 7590 *
HORIZONTAL_DATUM NAD83 *
HORIZONTAL_COORDINATE_SYSTEM UTM *
COORDINATE_ZONE 11 *
HORIZONTAL_UNITS METERS *
HORIZONTAL_RESOLUTION 1.000 *
SECONDARY_HORIZONTAL_DATUM NAD27 *
XY_ORIGIN 454350.000 3956640.000 *
SECONDARY_XY_ORIGIN 454429.761 3956444.939 *
NATION US *
STATE CA *
NW_QUAD_CORNER_XY 454794.204 3956335.621 *
NE_QUAD_CORNER_XY 460444.967 3956308.610 *
SE_QUAD_CORNER_XY 460414.065 3949376.707 *
SW_QUAD_CORNER_XY 454758.888 3949403.698 *
SECONDARY_NW_QUAD_XY 454793.138 3956135.858 *
SECONDARY_NE_QUAD_XY 460444.034 3956108.846 *
SECONDARY_SE_QUAD_XY 460413.132 3949177.122 *
SECONDARY_SW_QUAD_XY 454757.822 3949204.113 *
RMSE_XY 2.064 *
IMAGE_SOURCE "BLACK AND WHITE FILM" *
SOURCE_IMAGE_ID "NAPP 6880 22" *
SOURCE_IMAGE_DATE 1995 10 07 *
SOURCE_DEM_DATE 1973 01 01 *
AGENCY "WESTERN MAPPING CENTER (WMC)" *
PRODUCER "ANALYTICAL SURVEYS INC." *
PRODUCTION_SYSTEM "ORBIT OR_RECTIFY V.5.2" *
STANDARD_VERSION 1996 12 *
METADATA_DATE 1998 05 07 *
DATA_FILE_SIZE 48734220 *
BYTE_COUNT 6420 * * * * * * * * * * * * * * * * * * * * * * * * * * * * * * * * * * * * * *
END_USGS_HEADER *
