BEGIN_USGS_DOQ_HEADER *
QUADRANGLE_NAME "WESTEND" *
QUADRANT SE *
NORTH_LATITUDE 35 41 15.000 *
WEST_LONGITUDE -117 26 15.000 *
SOUTH_LATITUDE 35 37 30.000 *
EAST_LONGITUDE -117 22 30.000 *
PRODUCTION_DATE 1998 05 06 *
RASTER_ORDER LEFT_RIGHT/TOP_BOTTOM *
BAND_ORGANIZATION "SINGLE FILE" *
BAND_CONTENT BLACK&WHITE *
BITS_PER_PIXEL 8 *
SAMPLES_AND_LINES 6390 7590 *
HORIZONTAL_DATUM NAD83 *
HORIZONTAL_COORDINATE_SYSTEM UTM *
COORDINATE_ZONE 11 *
HORIZONTAL_UNITS METERS *
HORIZONTAL_RESOLUTION 1.000 *
SECONDARY_HORIZONTAL_DATUM NAD27 *
XY_ORIGIN 459990.000 3949680.000 *
SECONDARY_XY_ORIGIN 460069.705 3949484.950 *
NATION US *
STATE CA *
NW_QUAD_CORNER_XY 460414.065 3949376.707 *
NE_QUAD_CORNER_XY 466069.226 3949353.315 *
SE_QUAD_CORNER_XY 466042.780 3942421.501 *
SW_QUAD_CORNER_XY 460383.210 3942444.875 *
SECONDARY_NW_QUAD_XY 460413.132 3949177.122 *
SECONDARY_NE_QUAD_XY 466068.427 3949153.730 *
SECONDARY_SE_QUAD_XY 466041.981 3942222.095 *
SECONDARY_SW_QUAD_XY 460382.278 3942245.470 *
RMSE_XY 1.385 *
IMAGE_SOURCE "BLACK AND WHITE FILM" *
SOURCE_IMAGE_ID "NAPP 6853 281" *
SOURCE_IMAGE_DATE 1994 05 28 *
SOURCE_DEM_DATE 1973 01 01 *
AGENCY "WESTERN MAPPING CENTER (WMC)" *
PRODUCER "ANALYTICAL SURVEYS INC." *
PRODUCTION_SYSTEM "ORBIT OR_RECTIFY V.5.2" *
STANDARD_VERSION 1996 12 *
METADATA_DATE 1998 05 07 *
DATA_FILE_SIZE 48506490 *
BYTE_COUNT 6390 * * * * * * * * * * * * * * * * * * * * * * * * * * * * * * * * * * * * *
END_USGS_HEADER *
