BEGIN_USGS_DOQ_HEADER *
QUADRANGLE_NAME "LONE BUTTE" *
QUADRANT NE *
NORTH_LATITUDE 35 45 00.000 *
WEST_LONGITUDE -117 33 45.000 *
SOUTH_LATITUDE 35 41 15.000 *
EAST_LONGITUDE -117 30 00.000 *
PRODUCTION_DATE 1998 05 05 *
RASTER_ORDER LEFT_RIGHT/TOP_BOTTOM *
BAND_ORGANIZATION "SINGLE FILE" *
BAND_CONTENT BLACK&WHITE *
BITS_PER_PIXEL 8 *
SAMPLES_AND_LINES 6390 7590 *
HORIZONTAL_DATUM NAD83 *
HORIZONTAL_COORDINATE_SYSTEM UTM *
COORDINATE_ZONE 11 *
HORIZONTAL_UNITS METERS *
HORIZONTAL_RESOLUTION 1.000 *
SECONDARY_HORIZONTAL_DATUM NAD27 *
XY_ORIGIN 448710.000 3956670.000 *
SECONDARY_XY_ORIGIN 448789.779 3956474.912 *
NATION US *
STATE CA *
NW_QUAD_CORNER_XY 449143.425 3956366.233 *
NE_QUAD_CORNER_XY 454794.204 3956335.621 *
SE_QUAD_CORNER_XY 454758.888 3949403.698 *
SW_QUAD_CORNER_XY 449103.693 3949434.288 *
SECONDARY_NW_QUAD_XY 449142.225 3956166.471 *
SECONDARY_NE_QUAD_XY 454793.138 3956135.858 *
SECONDARY_SE_QUAD_XY 454757.822 3949204.113 *
SECONDARY_SW_QUAD_XY 449102.495 3949234.704 *
RMSE_XY 1.664 *
IMAGE_SOURCE "BLACK AND WHITE FILM" *
SOURCE_IMAGE_ID "NAPP 6880 29" *
SOURCE_IMAGE_DATE 1995 10 07 *
SOURCE_DEM_DATE 1973 01 01 *
AGENCY "WESTERN MAPPING CENTER (WMC)" *
PRODUCER "ANALYTICAL SURVEYS INC." *
PRODUCTION_SYSTEM "ORBIT OR_RECTIFY V.5.2" *
STANDARD_VERSION 1996 12 *
METADATA_DATE 1998 05 05 *
DATA_FILE_SIZE 48506490 *
BYTE_COUNT 6390 * * * * * * * * * * * * * * * * * * * * * * * * * * * * * * * * * * * * *
END_USGS_HEADER *
