BEGIN_USGS_DOQ_HEADER *
QUADRANGLE_NAME "LONE BUTTE" *
QUADRANT NW *
NORTH_LATITUDE 35 45 00.000 *
WEST_LONGITUDE -117 37 30.000 *
SOUTH_LATITUDE 35 41 15.000 *
EAST_LONGITUDE -117 33 45.000 *
PRODUCTION_DATE 1998 05 05 *
RASTER_ORDER LEFT_RIGHT/TOP_BOTTOM *
BAND_ORGANIZATION "SINGLE FILE" *
BAND_CONTENT BLACK&WHITE *
BITS_PER_PIXEL 8 *
SAMPLES_AND_LINES 6420 7620 *
HORIZONTAL_DATUM NAD83 *
HORIZONTAL_COORDINATE_SYSTEM UTM *
COORDINATE_ZONE 11 *
HORIZONTAL_UNITS METERS *
HORIZONTAL_RESOLUTION 1.000 *
SECONDARY_HORIZONTAL_DATUM NAD27 *
XY_ORIGIN 443040.000 3956730.000 *
SECONDARY_XY_ORIGIN 443119.802 3956534.885 *
NATION US *
STATE CA *
NW_QUAD_CORNER_XY 443492.626 3956400.447 *
NE_QUAD_CORNER_XY 449143.425 3956366.233 *
SE_QUAD_CORNER_XY 449103.693 3949434.288 *
SW_QUAD_CORNER_XY 443448.479 3949468.476 *
SECONDARY_NW_QUAD_XY 443491.293 3956200.685 *
SECONDARY_NE_QUAD_XY 449142.225 3956166.471 *
SECONDARY_SE_QUAD_XY 449102.495 3949234.704 *
SECONDARY_SW_QUAD_XY 443447.148 3949268.894 *
RMSE_XY 1.685 *
IMAGE_SOURCE "BLACK AND WHITE FILM" *
SOURCE_IMAGE_ID "NAPP 6880 55" *
SOURCE_IMAGE_DATE 1995 10 07 *
SOURCE_DEM_DATE 1973 01 01 *
AGENCY "WESTERN MAPPING CENTER (WMC)" *
PRODUCER "ANALYTICAL SURVEYS INC." *
PRODUCTION_SYSTEM "ORBIT OR_RECTIFY V.5.2" *
STANDARD_VERSION 1996 12 *
METADATA_DATE 1998 05 05 *
DATA_FILE_SIZE 48926820 *
BYTE_COUNT 6420 * * * * * * * * * * * * * * * * * * * * * * * * * * * * * * * * * * * * * *
END_USGS_HEADER *
