BEGIN_USGS_DOQ_HEADER *
QUADRANGLE_NAME "RIDGECREST NORTH" *
QUADRANT NE *
NORTH_LATITUDE 35 45 00.000 *
WEST_LONGITUDE -117 41 15.000 *
SOUTH_LATITUDE 35 41 15.000 *
EAST_LONGITUDE -117 37 30.000 *
PRODUCTION_DATE 1998 05 05 *
RASTER_ORDER LEFT_RIGHT/TOP_BOTTOM *
BAND_ORGANIZATION "SINGLE FILE" *
BAND_CONTENT BLACK&WHITE *
BITS_PER_PIXEL 8 *
SAMPLES_AND_LINES 6420 7620 *
HORIZONTAL_DATUM NAD83 *
HORIZONTAL_COORDINATE_SYSTEM UTM *
COORDINATE_ZONE 11 *
HORIZONTAL_UNITS METERS *
HORIZONTAL_RESOLUTION 1.000 *
SECONDARY_HORIZONTAL_DATUM NAD27 *
XY_ORIGIN 437400.000 3956760.000 *
SECONDARY_XY_ORIGIN 437479.825 3956564.858 *
NATION US *
STATE CA *
NW_QUAD_CORNER_XY 437841.806 3956438.263 *
NE_QUAD_CORNER_XY 443492.626 3956400.447 *
SE_QUAD_CORNER_XY 443448.479 3949468.476 *
SW_QUAD_CORNER_XY 437793.244 3949506.265 *
SECONDARY_NW_QUAD_XY 437840.340 3956238.502 *
SECONDARY_NE_QUAD_XY 443491.293 3956200.685 *
SECONDARY_SE_QUAD_XY 443447.148 3949268.894 *
SECONDARY_SW_QUAD_XY 437791.779 3949306.683 *
RMSE_XY 1.373 *
IMAGE_SOURCE "BLACK AND WHITE FILM" *
SOURCE_IMAGE_ID "NAPP 6880 40" *
SOURCE_IMAGE_DATE 1995 10 07 *
SOURCE_DEM_DATE 1972 01 01 *
AGENCY "WESTERN MAPPING CENTER (WMC)" *
PRODUCER "ANALYTICAL SURVEYS INC." *
PRODUCTION_SYSTEM "ORBIT OR_RECTIFY V.5.2" *
STANDARD_VERSION 1996 12 *
METADATA_DATE 1998 05 05 *
DATA_FILE_SIZE 48926820 *
BYTE_COUNT 6420 * * * * * * * * * * * * * * * * * * * * * * * * * * * * * * * * * * * * * *
END_USGS_HEADER *
