BEGIN_USGS_DOQ_HEADER *
QUADRANGLE_NAME "RIDGECREST NORTH" *
QUADRANT SW *
NORTH_LATITUDE 35 41 15.000 *
WEST_LONGITUDE -117 45 00.000 *
SOUTH_LATITUDE 35 37 30.000 *
EAST_LONGITUDE -117 41 15.000 *
PRODUCTION_DATE 1998 05 05 *
RASTER_ORDER LEFT_RIGHT/TOP_BOTTOM *
BAND_ORGANIZATION "SINGLE FILE" *
BAND_CONTENT BLACK&WHITE *
BITS_PER_PIXEL 8 *
SAMPLES_AND_LINES 6420 7590 *
HORIZONTAL_DATUM NAD83 *
HORIZONTAL_COORDINATE_SYSTEM UTM *
COORDINATE_ZONE 11 *
HORIZONTAL_UNITS METERS *
HORIZONTAL_RESOLUTION 1.000 *
SECONDARY_HORIZONTAL_DATUM NAD27 *
XY_ORIGIN 431700.000 3949860.000 *
SECONDARY_XY_ORIGIN 431779.842 3949664.862 *
NATION US *
STATE CA *
NW_QUAD_CORNER_XY 432137.984 3949547.652 *
NE_QUAD_CORNER_XY 437793.244 3949506.265 *
SE_QUAD_CORNER_XY 437744.756 3942574.337 *
SW_QUAD_CORNER_XY 432085.088 3942615.694 *
SECONDARY_NW_QUAD_XY 432136.386 3949348.071 *
SECONDARY_NE_QUAD_XY 437791.779 3949306.683 *
SECONDARY_SE_QUAD_XY 437743.292 3942374.935 *
SECONDARY_SW_QUAD_XY 432083.491 3942416.293 *
RMSE_XY 1.157 *
IMAGE_SOURCE "BLACK AND WHITE FILM" *
SOURCE_IMAGE_ID "NAPP 6850 34" *
SOURCE_IMAGE_DATE 1994 05 28 *
SOURCE_DEM_DATE 1972 01 01 *
AGENCY "WESTERN MAPPING CENTER (WMC)" *
PRODUCER "ANALYTICAL SURVEYS INC." *
PRODUCTION_SYSTEM "ORBIT OR_RECTIFY V.5.2" *
STANDARD_VERSION 1996 12 *
METADATA_DATE 1998 05 05 *
DATA_FILE_SIZE 48734220 *
BYTE_COUNT 6420 * * * * * * * * * * * * * * * * * * * * * * * * * * * * * * * * * * * * * *
END_USGS_HEADER *
