BEGIN_USGS_DOQ_HEADER *
QUADRANGLE_NAME "INYOKERN" *
QUADRANT NW *
NORTH_LATITUDE 35 45 00.000 *
WEST_LONGITUDE -117 52 30.000 *
SOUTH_LATITUDE 35 41 15.000 *
EAST_LONGITUDE -117 48 45.000 *
PRODUCTION_DATE 1998 05 05 *
RASTER_ORDER LEFT_RIGHT/TOP_BOTTOM *
BAND_ORGANIZATION "SINGLE FILE" *
BAND_CONTENT BLACK&WHITE *
BITS_PER_PIXEL 8 *
SAMPLES_AND_LINES 6450 7620 *
HORIZONTAL_DATUM NAD83 *
HORIZONTAL_COORDINATE_SYSTEM UTM *
COORDINATE_ZONE 11 *
HORIZONTAL_UNITS METERS *
HORIZONTAL_RESOLUTION 1.000 *
SECONDARY_HORIZONTAL_DATUM NAD27 *
XY_ORIGIN 420420.000 3956880.000 *
SECONDARY_XY_ORIGIN 420499.911 3956684.847 *
NATION US *
STATE CA *
NW_QUAD_CORNER_XY 420889.195 3956573.324 *
NE_QUAD_CORNER_XY 426540.092 3956524.702 *
SE_QUAD_CORNER_XY 426482.699 3949592.639 *
SW_QUAD_CORNER_XY 420827.385 3949641.226 *
SECONDARY_NW_QUAD_XY 420887.328 3956373.567 *
SECONDARY_NE_QUAD_XY 426538.360 3956324.943 *
SECONDARY_SE_QUAD_XY 426480.968 3949393.060 *
SECONDARY_SW_QUAD_XY 420825.521 3949441.648 *
RMSE_XY 1.232 *
IMAGE_SOURCE "BLACK AND WHITE FILM" *
SOURCE_IMAGE_ID "NAPP 6850 126" *
SOURCE_IMAGE_DATE 1994 05 28 *
SOURCE_DEM_DATE 1971 01 01 *
AGENCY "WESTERN MAPPING CENTER (WMC)" *
PRODUCER "ANALYTICAL SURVEYS INC." *
PRODUCTION_SYSTEM "ORBIT OR_RECTIFY V.5.2" *
STANDARD_VERSION 1996 12 *
METADATA_DATE 1998 05 05 *
DATA_FILE_SIZE 49155450 *
BYTE_COUNT 6450 * * * * * * * * * * * * * * * * * * * * * * * * * * * * * * * * * * * * * *
END_USGS_HEADER *
