BEGIN_USGS_DOQ_HEADER *
QUADRANGLE_NAME "OWENS PEAK" *
QUADRANT NE *
NORTH_LATITUDE 35 45 00.000 *
WEST_LONGITUDE -117 56 15.000 *
SOUTH_LATITUDE 35 41 15.000 *
EAST_LONGITUDE -117 52 30.000 *
PRODUCTION_DATE 1998 05 19 *
RASTER_ORDER LEFT_RIGHT/TOP_BOTTOM *
BAND_ORGANIZATION "SINGLE FILE" *
BAND_CONTENT BLACK&WHITE *
BITS_PER_PIXEL 8 *
SAMPLES_AND_LINES 6420 7620 *
HORIZONTAL_DATUM NAD83 *
HORIZONTAL_COORDINATE_SYSTEM UTM *
COORDINATE_ZONE 11 *
HORIZONTAL_UNITS METERS *
HORIZONTAL_RESOLUTION 1.000 *
SECONDARY_HORIZONTAL_DATUM NAD27 *
XY_ORIGIN 414780.000 3956940.000 *
SECONDARY_XY_ORIGIN 414859.944 3956744.854 *
NATION US *
STATE CA *
NW_QUAD_CORNER_XY 415238.267 3956625.550 *
NE_QUAD_CORNER_XY 420889.195 3956573.324 *
SE_QUAD_CORNER_XY 420827.385 3949641.226 *
SW_QUAD_CORNER_XY 415172.041 3949693.413 *
SECONDARY_NW_QUAD_XY 415236.267 3956425.793 *
SECONDARY_NE_QUAD_XY 420887.328 3956373.567 *
SECONDARY_SE_QUAD_XY 420825.521 3949441.648 *
SECONDARY_SW_QUAD_XY 415170.044 3949493.836 *
RMSE_XY 3.150 *
IMAGE_SOURCE "BLACK AND WHITE FILM" *
SOURCE_IMAGE_ID "NAPP 6851 51" *
SOURCE_IMAGE_DATE 1994 05 28 *
SOURCE_IMAGE_ID "NAPP 6851 52" *
SOURCE_IMAGE_DATE 1994 05 28 *
SOURCE_IMAGE_ID "NAPP 6851 49" *
SOURCE_IMAGE_DATE 1994 05 28 *
SOURCE_IMAGE_ID "NAPP 6850 268" *
SOURCE_IMAGE_DATE 1994 05 28 *
SOURCE_DEM_DATE 1972 01 01 *
AGENCY "WESTERN MAPPING CENTER (WMC)" *
PRODUCER "ANALYTICAL SURVEYS INC." *
PRODUCTION_SYSTEM "ORBIT OR_RECTIFY V.5.2" *
STANDARD_VERSION 1996 12 *
METADATA_DATE 1998 05 19 *
DATA_FILE_SIZE 48926820 *
BYTE_COUNT 6420 * * * * * * * * * * * * * * * * * * * * * * * * * * * * * * * *
END_USGS_HEADER *
