BEGIN_USGS_DOQ_HEADER *
QUADRANGLE_NAME "OWENS PEAK" *
QUADRANT SE *
NORTH_LATITUDE 35 41 15.000 *
WEST_LONGITUDE -117 56 15.000 *
SOUTH_LATITUDE 35 37 30.000 *
EAST_LONGITUDE -117 52 30.000 *
PRODUCTION_DATE 1998 05 19 *
RASTER_ORDER LEFT_RIGHT/TOP_BOTTOM *
BAND_ORGANIZATION "SINGLE FILE" *
BAND_CONTENT BLACK&WHITE *
BITS_PER_PIXEL 8 *
SAMPLES_AND_LINES 6420 7620 *
HORIZONTAL_DATUM NAD83 *
HORIZONTAL_COORDINATE_SYSTEM UTM *
COORDINATE_ZONE 11 *
HORIZONTAL_UNITS METERS *
HORIZONTAL_RESOLUTION 1.000 *
SECONDARY_HORIZONTAL_DATUM NAD27 *
XY_ORIGIN 414720.000 3950010.000 *
SECONDARY_XY_ORIGIN 414799.914 3949814.888 *
NATION US *
STATE CA *
NW_QUAD_CORNER_XY 415172.041 3949693.413 *
NE_QUAD_CORNER_XY 420827.385 3949641.226 *
SE_QUAD_CORNER_XY 420765.671 3942709.199 *
SW_QUAD_CORNER_XY 415105.917 3942761.347 *
SECONDARY_NW_QUAD_XY 415170.044 3949493.836 *
SECONDARY_NE_QUAD_XY 420825.521 3949441.648 *
SECONDARY_SE_QUAD_XY 420763.808 3942509.800 *
SECONDARY_SW_QUAD_XY 415103.921 3942561.949 *
RMSE_XY 2.301 *
IMAGE_SOURCE "BLACK AND WHITE FILM" *
SOURCE_IMAGE_ID "NAPP 6851 53" *
SOURCE_IMAGE_DATE 1994 05 28 *
SOURCE_IMAGE_ID "NAPP 6850 266" *
SOURCE_IMAGE_DATE 1994 05 28 *
SOURCE_IMAGE_ID "NAPP 6851 52" *
SOURCE_IMAGE_DATE 1994 05 28 *
SOURCE_DEM_DATE 1972 01 01 *
AGENCY "WESTERN MAPPING CENTER (WMC)" *
PRODUCER "ANALYTICAL SURVEYS INC." *
PRODUCTION_SYSTEM "ORBIT OR_RECTIFY V.5.2" *
STANDARD_VERSION 1996 12 *
METADATA_DATE 1998 05 19 *
DATA_FILE_SIZE 48926820 *
BYTE_COUNT 6420 * * * * * * * * * * * * * * * * * * * * * * * * * * * * * * * * * *
END_USGS_HEADER *
