BEGIN_USGS_DOQ_HEADER *
QUADRANGLE_NAME "COPPER QUEEN CANYON" *
QUADRANT NE *
NORTH_LATITUDE 35 52 30.000 *
WEST_LONGITUDE -117 11 15.000 *
SOUTH_LATITUDE 35 48 45.000 *
EAST_LONGITUDE -117 07 30.000 *
PRODUCTION_DATE 1998 05 19 *
RASTER_ORDER LEFT_RIGHT/TOP_BOTTOM *
BAND_ORGANIZATION "SINGLE FILE" *
BAND_CONTENT BLACK&WHITE *
BITS_PER_PIXEL 8 *
SAMPLES_AND_LINES 6360 7560 *
HORIZONTAL_DATUM NAD83 *
HORIZONTAL_COORDINATE_SYSTEM UTM *
COORDINATE_ZONE 11 *
HORIZONTAL_UNITS METERS *
HORIZONTAL_RESOLUTION 1.000 *
SECONDARY_HORIZONTAL_DATUM NAD27 *
XY_ORIGIN 482670.000 3970410.000 *
SECONDARY_XY_ORIGIN 482749.641 3970214.949 *
NATION US *
STATE CA *
NW_QUAD_CORNER_XY 483074.433 3970100.500 *
NE_QUAD_CORNER_XY 488716.292 3970091.484 *
SE_QUAD_CORNER_XY 488707.437 3963159.496 *
SW_QUAD_CORNER_XY 483061.149 3963168.506 *
SECONDARY_NW_QUAD_XY 483074.033 3969900.379 *
SECONDARY_NE_QUAD_XY 488716.025 3969891.362 *
SECONDARY_SE_QUAD_XY 488707.170 3962959.552 *
SECONDARY_SW_QUAD_XY 483060.749 3962968.562 *
RMSE_XY 3.636 *
IMAGE_SOURCE "BLACK AND WHITE FILM" *
SOURCE_IMAGE_ID "NAPP 6855 197" *
SOURCE_IMAGE_DATE 1994 05 29 *
SOURCE_IMAGE_ID "NAPP 6855 196" *
SOURCE_IMAGE_DATE 1994 05 29 *
SOURCE_IMAGE_ID "NAPP 6855 198" *
SOURCE_IMAGE_DATE 1994 05 29 *
SOURCE_IMAGE_ID "NAPP 6855 78" *
SOURCE_IMAGE_DATE 1994 05 29 *
SOURCE_DEM_DATE 1984 01 01 *
AGENCY "WESTERN MAPPING CENTER (WMC)" *
PRODUCER "ANALYTICAL SURVEYS INC." *
PRODUCTION_SYSTEM "ORBIT OR_RECTIFY V.5.2" *
STANDARD_VERSION 1996 12 *
METADATA_DATE 1998 05 19 *
DATA_FILE_SIZE 48087960 *
BYTE_COUNT 6360 * * * * * * * * * * * * * * * * * * * * * * * * * * * * * * *
END_USGS_HEADER *
