BEGIN_USGS_DOQ_HEADER *
QUADRANGLE_NAME "COPPER QUEEN CANYON" *
QUADRANT SE *
NORTH_LATITUDE 35 48 45.000 *
WEST_LONGITUDE -117 11 15.000 *
SOUTH_LATITUDE 35 45 00.000 *
EAST_LONGITUDE -117 07 30.000 *
PRODUCTION_DATE 1998 05 19 *
RASTER_ORDER LEFT_RIGHT/TOP_BOTTOM *
BAND_ORGANIZATION "SINGLE FILE" *
BAND_CONTENT BLACK&WHITE *
BITS_PER_PIXEL 8 *
SAMPLES_AND_LINES 6390 7560 *
HORIZONTAL_DATUM NAD83 *
HORIZONTAL_COORDINATE_SYSTEM UTM *
COORDINATE_ZONE 11 *
HORIZONTAL_UNITS METERS *
HORIZONTAL_RESOLUTION 1.000 *
SECONDARY_HORIZONTAL_DATUM NAD27 *
XY_ORIGIN 482640.000 3963480.000 *
SECONDARY_XY_ORIGIN 482719.620 3963284.951 *
NATION US *
STATE CA *
NW_QUAD_CORNER_XY 483061.149 3963168.506 *
NE_QUAD_CORNER_XY 488707.437 3963159.496 *
SE_QUAD_CORNER_XY 488698.594 3956227.580 *
SW_QUAD_CORNER_XY 483047.886 3956236.583 *
SECONDARY_NW_QUAD_XY 483060.749 3962968.562 *
SECONDARY_NE_QUAD_XY 488707.170 3962959.552 *
SECONDARY_SE_QUAD_XY 488698.328 3956027.814 *
SECONDARY_SW_QUAD_XY 483047.486 3956036.818 *
RMSE_XY 3.558 *
IMAGE_SOURCE "BLACK AND WHITE FILM" *
SOURCE_IMAGE_ID "NAPP 6855 195" *
SOURCE_IMAGE_DATE 1994 05 29 *
SOURCE_IMAGE_ID "NAPP 6855 76" *
SOURCE_IMAGE_DATE 1994 05 29 *
SOURCE_IMAGE_ID "NAPP 6855 78" *
SOURCE_IMAGE_DATE 1994 05 29 *
SOURCE_DEM_DATE 1984 01 01 *
AGENCY "WESTERN MAPPING CENTER (WMC)" *
PRODUCER "ANALYTICAL SURVEYS INC." *
PRODUCTION_SYSTEM "ORBIT OR_RECTIFY V.5.2" *
STANDARD_VERSION 1996 12 *
METADATA_DATE 1998 05 19 *
DATA_FILE_SIZE 48314790 *
BYTE_COUNT 6390 * * * * * * * * * * * * * * * * * * * * * * * * * * * * * * * * *
END_USGS_HEADER *
