BEGIN_USGS_DOQ_HEADER *
QUADRANGLE_NAME "TRONA EAST" *
QUADRANT SE *
NORTH_LATITUDE 35 48 45.000 *
WEST_LONGITUDE -117 18 45.000 *
SOUTH_LATITUDE 35 45 00.000 *
EAST_LONGITUDE -117 15 00.000 *
PRODUCTION_DATE 1998 05 13 *
RASTER_ORDER LEFT_RIGHT/TOP_BOTTOM *
BAND_ORGANIZATION "SINGLE FILE" *
BAND_CONTENT BLACK&WHITE *
BITS_PER_PIXEL 8 *
SAMPLES_AND_LINES 6360 7590 *
HORIZONTAL_DATUM NAD83 *
HORIZONTAL_COORDINATE_SYSTEM UTM *
COORDINATE_ZONE 11 *
HORIZONTAL_UNITS METERS *
HORIZONTAL_RESOLUTION 1.000 *
SECONDARY_HORIZONTAL_DATUM NAD27 *
XY_ORIGIN 471360.000 3963510.000 *
SECONDARY_XY_ORIGIN 471439.678 3963314.958 *
NATION US *
STATE CA *
NW_QUAD_CORNER_XY 471768.554 3963197.337 *
NE_QUAD_CORNER_XY 477414.856 3963181.120 *
SE_QUAD_CORNER_XY 477397.171 3956249.188 *
SW_QUAD_CORNER_XY 471746.448 3956265.394 *
SECONDARY_NW_QUAD_XY 471767.887 3962997.394 *
SECONDARY_NE_QUAD_XY 477414.322 3962981.176 *
SECONDARY_SE_QUAD_XY 477396.638 3956049.422 *
SECONDARY_SW_QUAD_XY 471745.781 3956065.629 *
RMSE_XY 1.805 *
IMAGE_SOURCE "BLACK AND WHITE FILM" *
SOURCE_IMAGE_ID "NAPP 6854 138" *
SOURCE_IMAGE_DATE 1994 05 29 *
SOURCE_IMAGE_ID "NAPP 6854 136" *
SOURCE_IMAGE_DATE 1994 05 29 *
SOURCE_DEM_DATE 1982 01 01 *
AGENCY "WESTERN MAPPING CENTER (WMC)" *
PRODUCER "ANALYTICAL SURVEYS INC." *
PRODUCTION_SYSTEM "ORBIT OR_RECTIFY V.5.2" *
STANDARD_VERSION 1996 12 *
METADATA_DATE 1998 05 19 *
DATA_FILE_SIZE 48278760 *
BYTE_COUNT 6360 * * * * * * * * * * * * * * * * * * * * * * * * * * * * * * * * * * *
END_USGS_HEADER *
