BEGIN_USGS_DOQ_HEADER *
QUADRANGLE_NAME "TRONA EAST" *
QUADRANT SW *
NORTH_LATITUDE 35 48 45.000 *
WEST_LONGITUDE -117 22 30.000 *
SOUTH_LATITUDE 35 45 00.000 *
EAST_LONGITUDE -117 18 45.000 *
PRODUCTION_DATE 1998 05 19 *
RASTER_ORDER LEFT_RIGHT/TOP_BOTTOM *
BAND_ORGANIZATION "SINGLE FILE" *
BAND_CONTENT BLACK&WHITE *
BITS_PER_PIXEL 8 *
SAMPLES_AND_LINES 6390 7590 *
HORIZONTAL_DATUM NAD83 *
HORIZONTAL_COORDINATE_SYSTEM UTM *
COORDINATE_ZONE 11 *
HORIZONTAL_UNITS METERS *
HORIZONTAL_RESOLUTION 1.000 *
SECONDARY_HORIZONTAL_DATUM NAD27 *
XY_ORIGIN 465690.000 3963540.000 *
SECONDARY_XY_ORIGIN 465769.691 3963344.957 *
NATION US *
STATE CA *
NW_QUAD_CORNER_XY 466122.241 3963217.159 *
NE_QUAD_CORNER_XY 471768.554 3963197.337 *
SE_QUAD_CORNER_XY 471746.448 3956265.394 *
SW_QUAD_CORNER_XY 466095.714 3956285.201 *
SECONDARY_NW_QUAD_XY 466121.441 3963017.216 *
SECONDARY_NE_QUAD_XY 471767.887 3962997.394 *
SECONDARY_SE_QUAD_XY 471745.781 3956065.629 *
SECONDARY_SW_QUAD_XY 466094.914 3956085.437 *
RMSE_XY 1.032 *
IMAGE_SOURCE "BLACK AND WHITE FILM" *
SOURCE_IMAGE_ID "NAPP 6854 91" *
SOURCE_IMAGE_DATE 1994 05 29 *
SOURCE_IMAGE_ID "NAPP 6853 277" *
SOURCE_IMAGE_DATE 1994 05 28 *
SOURCE_DEM_DATE 1982 01 01 *
AGENCY "WESTERN MAPPING CENTER (WMC)" *
PRODUCER "ANALYTICAL SURVEYS INC." *
PRODUCTION_SYSTEM "ORBIT OR_RECTIFY V.5.2" *
STANDARD_VERSION 1996 12 *
METADATA_DATE 1998 05 19 *
DATA_FILE_SIZE 48506490 *
BYTE_COUNT 6390 * * * * * * * * * * * * * * * * * * * * * * * * * * * * * * * * * * *
END_USGS_HEADER *
