BEGIN_USGS_DOQ_HEADER *
QUADRANGLE_NAME "TRONA WEST" *
QUADRANT NE *
NORTH_LATITUDE 35 52 30.000 *
WEST_LONGITUDE -117 26 15.000 *
SOUTH_LATITUDE 35 48 45.000 *
EAST_LONGITUDE -117 22 30.000 *
PRODUCTION_DATE 1998 05 11 *
RASTER_ORDER LEFT_RIGHT/TOP_BOTTOM *
BAND_ORGANIZATION "SINGLE FILE" *
BAND_CONTENT BLACK&WHITE *
BITS_PER_PIXEL 8 *
SAMPLES_AND_LINES 6390 7590 *
HORIZONTAL_DATUM NAD83 *
HORIZONTAL_COORDINATE_SYSTEM UTM *
COORDINATE_ZONE 11 *
HORIZONTAL_UNITS METERS *
HORIZONTAL_RESOLUTION 1.000 *
SECONDARY_HORIZONTAL_DATUM NAD27 *
XY_ORIGIN 460080.000 3970500.000 *
SECONDARY_XY_ORIGIN 460159.676 3970304.971 *
NATION US *
STATE CA *
NW_QUAD_CORNER_XY 460506.912 3970172.632 *
NE_QUAD_CORNER_XY 466148.809 3970149.189 *
SE_QUAD_CORNER_XY 466122.241 3963217.159 *
SW_QUAD_CORNER_XY 460475.916 3963240.585 *
SECONDARY_NW_QUAD_XY 460505.977 3969972.512 *
SECONDARY_NE_QUAD_XY 466148.008 3969949.069 *
SECONDARY_SE_QUAD_XY 466121.441 3963017.216 *
SECONDARY_SW_QUAD_XY 460474.982 3963040.643 *
RMSE_XY 2.498 *
IMAGE_SOURCE "BLACK AND WHITE FILM" *
SOURCE_IMAGE_ID "NAPP 6853 275" *
SOURCE_IMAGE_DATE 1994 05 28 *
SOURCE_IMAGE_ID "NAPP 6853 277" *
SOURCE_IMAGE_DATE 1994 05 28 *
SOURCE_IMAGE_ID "NAPP 6853 273" *
SOURCE_IMAGE_DATE 1994 05 28 *
SOURCE_DEM_DATE 1983 01 01 *
AGENCY "WESTERN MAPPING CENTER (WMC)" *
PRODUCER "ANALYTICAL SURVEYS INC." *
PRODUCTION_SYSTEM "ORBIT OR_RECTIFY V.5.2" *
STANDARD_VERSION 1996 12 *
METADATA_DATE 1998 05 11 *
DATA_FILE_SIZE 48506490 *
BYTE_COUNT 6390 * * * * * * * * * * * * * * * * * * * * * * * * * * * * * * * * *
END_USGS_HEADER *
