BEGIN_USGS_DOQ_HEADER *
QUADRANGLE_NAME "TRONA WEST" *
QUADRANT SW *
NORTH_LATITUDE 35 48 45.000 *
WEST_LONGITUDE -117 30 00.000 *
SOUTH_LATITUDE 35 45 00.000 *
EAST_LONGITUDE -117 26 15.000 *
PRODUCTION_DATE 1998 05 11 *
RASTER_ORDER LEFT_RIGHT/TOP_BOTTOM *
BAND_ORGANIZATION "SINGLE FILE" *
BAND_CONTENT BLACK&WHITE *
BITS_PER_PIXEL 8 *
SAMPLES_AND_LINES 6390 7590 *
HORIZONTAL_DATUM NAD83 *
HORIZONTAL_COORDINATE_SYSTEM UTM *
COORDINATE_ZONE 11 *
HORIZONTAL_UNITS METERS *
HORIZONTAL_RESOLUTION 1.000 *
SECONDARY_HORIZONTAL_DATUM NAD27 *
XY_ORIGIN 454410.000 3963570.000 *
SECONDARY_XY_ORIGIN 454489.717 3963374.956 *
NATION US *
STATE CA *
NW_QUAD_CORNER_XY 454829.575 3963267.616 *
NE_QUAD_CORNER_XY 460475.916 3963240.585 *
SE_QUAD_CORNER_XY 460444.967 3956308.610 *
SW_QUAD_CORNER_XY 454794.204 3956335.621 *
SECONDARY_NW_QUAD_XY 454828.508 3963067.674 *
SECONDARY_NE_QUAD_XY 460474.982 3963040.643 *
SECONDARY_SE_QUAD_XY 460444.034 3956108.846 *
SECONDARY_SW_QUAD_XY 454793.138 3956135.858 *
RMSE_XY 2.375 *
IMAGE_SOURCE "BLACK AND WHITE FILM" *
SOURCE_IMAGE_ID "NAPP 6880 24" *
SOURCE_IMAGE_DATE 1995 10 07 *
SOURCE_IMAGE_ID "NAPP 6853 277" *
SOURCE_IMAGE_DATE 1994 05 28 *
SOURCE_IMAGE_ID "NAPP 6880 26" *
SOURCE_IMAGE_DATE 1995 10 07 *
SOURCE_DEM_DATE 1983 01 01 *
AGENCY "WESTERN MAPPING CENTER (WMC)" *
PRODUCER "ANALYTICAL SURVEYS INC." *
PRODUCTION_SYSTEM "ORBIT OR_RECTIFY V.5.2" *
STANDARD_VERSION 1996 12 *
METADATA_DATE 1998 05 11 *
DATA_FILE_SIZE 48506490 *
BYTE_COUNT 6390 * * * * * * * * * * * * * * * * * * * * * * * * * * * * * * * * *
END_USGS_HEADER *
