BEGIN_USGS_DOQ_HEADER *
QUADRANGLE_NAME "BURRO CANYON" *
QUADRANT NW *
NORTH_LATITUDE 35 52 30.000 *
WEST_LONGITUDE -117 37 30.000 *
SOUTH_LATITUDE 35 48 45.000 *
EAST_LONGITUDE -117 33 45.000 *
PRODUCTION_DATE 1998 05 11 *
RASTER_ORDER LEFT_RIGHT/TOP_BOTTOM *
BAND_ORGANIZATION "SINGLE FILE" *
BAND_CONTENT BLACK&WHITE *
BITS_PER_PIXEL 8 *
SAMPLES_AND_LINES 6420 7620 *
HORIZONTAL_DATUM NAD83 *
HORIZONTAL_COORDINATE_SYSTEM UTM *
COORDINATE_ZONE 11 *
HORIZONTAL_UNITS METERS *
HORIZONTAL_RESOLUTION 1.000 *
SECONDARY_HORIZONTAL_DATUM NAD27 *
XY_ORIGIN 443130.000 3970590.000 *
SECONDARY_XY_ORIGIN 443209.769 3970394.909 *
NATION US *
STATE CA *
NW_QUAD_CORNER_XY 443581.122 3970264.603 *
NE_QUAD_CORNER_XY 449223.071 3970230.339 *
SE_QUAD_CORNER_XY 449183.218 3963298.250 *
SW_QUAD_CORNER_XY 443536.841 3963332.490 *
SECONDARY_NW_QUAD_XY 443579.787 3970064.485 *
SECONDARY_NE_QUAD_XY 449221.869 3970030.221 *
SECONDARY_SE_QUAD_XY 449182.017 3963098.309 *
SECONDARY_SW_QUAD_XY 443535.507 3963132.549 *
RMSE_XY 1.628 *
IMAGE_SOURCE "BLACK AND WHITE FILM" *
SOURCE_IMAGE_ID "NAPP 6880 51" *
SOURCE_IMAGE_DATE 1995 10 07 *
SOURCE_DEM_DATE 1982 01 01 *
AGENCY "WESTERN MAPPING CENTER (WMC)" *
PRODUCER "ANALYTICAL SURVEYS INC." *
PRODUCTION_SYSTEM "ORBIT OR_RECTIFY V.5.2" *
STANDARD_VERSION 1996 12 *
METADATA_DATE 1998 05 11 *
DATA_FILE_SIZE 48926820 *
BYTE_COUNT 6420 * * * * * * * * * * * * * * * * * * * * * * * * * * * * * * * * * * * * * *
END_USGS_HEADER *
