BEGIN_USGS_DOQ_HEADER *
QUADRANGLE_NAME "BURRO CANYON" *
QUADRANT SW *
NORTH_LATITUDE 35 48 45.000 *
WEST_LONGITUDE -117 37 30.000 *
SOUTH_LATITUDE 35 45 00.000 *
EAST_LONGITUDE -117 33 45.000 *
PRODUCTION_DATE 1998 05 11 *
RASTER_ORDER LEFT_RIGHT/TOP_BOTTOM *
BAND_ORGANIZATION "SINGLE FILE" *
BAND_CONTENT BLACK&WHITE *
BITS_PER_PIXEL 8 *
SAMPLES_AND_LINES 6390 7620 *
HORIZONTAL_DATUM NAD83 *
HORIZONTAL_COORDINATE_SYSTEM UTM *
COORDINATE_ZONE 11 *
HORIZONTAL_UNITS METERS *
HORIZONTAL_RESOLUTION 1.000 *
SECONDARY_HORIZONTAL_DATUM NAD27 *
XY_ORIGIN 443100.000 3963660.000 *
SECONDARY_XY_ORIGIN 443179.783 3963464.897 *
NATION US *
STATE CA *
NW_QUAD_CORNER_XY 443536.841 3963332.490 *
NE_QUAD_CORNER_XY 449183.218 3963298.250 *
SE_QUAD_CORNER_XY 449143.425 3956366.233 *
SW_QUAD_CORNER_XY 443492.626 3956400.447 *
SECONDARY_NW_QUAD_XY 443535.507 3963132.549 *
SECONDARY_NE_QUAD_XY 449182.017 3963098.309 *
SECONDARY_SE_QUAD_XY 449142.225 3956166.471 *
SECONDARY_SW_QUAD_XY 443491.293 3956200.685 *
RMSE_XY 1.134 *
IMAGE_SOURCE "BLACK AND WHITE FILM" *
SOURCE_IMAGE_ID "NAPP 6880 53" *
SOURCE_IMAGE_DATE 1995 10 07 *
SOURCE_DEM_DATE 1982 01 01 *
AGENCY "WESTERN MAPPING CENTER (WMC)" *
PRODUCER "ANALYTICAL SURVEYS INC." *
PRODUCTION_SYSTEM "ORBIT OR_RECTIFY V.5.2" *
STANDARD_VERSION 1996 12 *
METADATA_DATE 1998 05 11 *
DATA_FILE_SIZE 48698190 *
BYTE_COUNT 6390 * * * * * * * * * * * * * * * * * * * * * * * * * * * * * * * * * * * * *
END_USGS_HEADER *
